Workbook

Sheet All Decades, 1960s-2020s
A1: Tracking the Average Lengths of the Old and New Names of Ridings Under Each Representation Order from the 1960s to the 2020s
A2: Decade | B2: Total Number of Ridings for the Provinces | C2: Number of Ridings the Names of Which Changed | D2: Percent of Ridings the Names of Which Changed | E2: Number of Ridings the Names of Which Grew | F2: Percent of Ridings the Names of Which Grew | G2: Average Wordcount of the Old Names | H2: Average Wordcount of the New Names | I2: Average Percent Increase | J2: Quebec | K2: Ontario | L2: Conservatives | M2: Liberals | N2: Bloc
A3: 1960s | B3: 262 | C3: ='Rep Order, 1966'!B33 -> 29 | D3: =C3/B3 -> 0.11068702 | E3: ='Rep Order, 1966'!F32 -> 10.448276 | F3: ='Rep Order, 1966'!G34 -> 1 | G3: ='Rep Order, 1966'!D32 -> 9.862069 | H3: ='Rep Order, 1966'!E32 -> 20.310345 | I3: =(H3-G3)/H3 -> 0.51443124 | J3: ='Rep Order, 1966'!H42 -> 0.4137931 | K3: ='Rep Order, 1966'!H44 -> 0.51724138 | L3: ='Rep Order, 1966'!J36 -> 0.13793103 | M3: ='Rep Order, 1966'!J38 -> 0.79310345
A4: 1970s | B4: 279 | C4: ='Rep Order, 1976'!B40 -> 36 | D4: =C4/B4 -> 0.12903226 | E4: ='Rep Order, 1976'!G40 -> 32 | F4: ='Rep Order, 1976'!G41 -> 0.88888889 | G4: ='Rep Order, 1976'!D39 -> 11.5 | H4: ='Rep Order, 1976'!E39 -> 19.666667 | I4: =(H4-G4)/H4 -> 0.41525424 | J4: ='Rep Order, 1976'!H49 -> 0.61111111 | K4: ='Rep Order, 1976'!H51 -> 0.25 | L4: ='Rep Order, 1976'!J43 -> 0.22222222 | M4: ='Rep Order, 1976'!J45 -> 0.72222222
A5: 1980s | B5: 292 | C5: ='Rep Order, 1987'!B21 -> 17 | D5: =C5/B5 -> 0.058219178 | E5: ='Rep Order, 1987'!G21 -> 14 | F5: ='Rep Order, 1987'!G22 -> 0.82352941 | G5: ='Rep Order, 1987'!D20 -> 11.235294 | H5: ='Rep Order, 1987'!E20 -> 18.941176 | I5: =(H5-G5)/H5 -> 0.4068323 | J5: ='Rep Order, 1987'!H24 -> 0.47058824 | K5: ='Rep Order, 1987'!H26 -> 0.29411765 | L5: ='Rep Order, 1987'!J28 -> 0.64705882 | M5: ='Rep Order, 1987'!J30 -> 0.29411765
A6: 1990s | B6: 298 | C6: ='Rep Order, 1996'!B61 -> 57 | D6: =C6/B6 -> 0.19127517 | E6: ='Rep Order, 1996'!G61 -> 49 | F6: ='Rep Order, 1996'!G62 -> 0.85964912 | G6: ='Rep Order, 1996'!D60 -> 15.964912 | H6: ='Rep Order, 1996'!E60 -> 25.298246 | I6: =(H6-G6)/H6 -> 0.36893204 | J6: ='Rep Order, 1996'!H64 -> 0.38596491 | K6: ='Rep Order, 1996'!H66 -> 0.26315789 | L6: ='Rep Order, 1996'!J68 -> 0.14035088 | M6: ='Rep Order, 1996'!J70 -> 0.45614035 | N6: ='Rep Order, 1996'!J72 -> 0.29824561
A7: 2000s | B7: 305 | C7: ='2000s'!B42 -> 38 | D7: =C7/B7 -> 0.12459016 | E7: ='2000s'!G42 -> 29 | F7: ='2000s'!G43 -> 0.76315789 | G7: ='2000s'!D41 -> 16 | H7: ='2000s'!E41 -> 27 | I7: =(H7-G7)/H7 -> 0.40740741 | J7: ='2000s'!H53 -> 0.34210526 | K7: ='2000s'!H55 -> 0.13157895 | L7: ='2000s'!J45 -> 0.55263158 | M7: ='2000s'!J47 -> 0.10526316 | N7: ='2000s'!J49 -> 0.34210526
A8: 2010s | B8: 335 | C8: ='2010s'!B34 -> 30 | D8: =C8/B8 -> 0.089552239 | E8: ='2010s'!G34 -> 23 | F8: ='2010s'!G35 -> 0.76666667 | G8: ='2010s'!D33 -> 16.866667 | H8: ='2010s'!E33 -> 24.533333 | I8: =(H8-G8)/H8 -> 0.3125 | J8: ='2010s'!H43 -> 0.43333333 | K8: ='2010s'!H45 -> 0.33333333 | L8: ='2010s'!J37 -> 0.46666667 | M8: ='2010s'!J39 -> 0.13333333
A9: 2020s | B9: 340 | C9: ='2020s (Final) '!B21 -> 17 | D9: =C9/B9 -> 0.05 | E9: ='2020s (Final) '!G21 -> 11 | F9: ='2020s (Final) '!G22 -> 0.64705882 | G9: ='2020s (Final) '!D20 -> 21.411765 | H9: ='2020s (Final) '!E20 -> 28.117647 | I9: =(H9-G9)/H9 -> 0.23849372 | J9: ='2020s (Final) '!H30 -> 0.41176471 | K9: ='2020s (Final) '!H32 -> 0.17647059 | L9: ='2020s (Final) '!J24 -> 0.58823529 | M9: ='2020s (Final) '!J26 -> 0.23529412 | N9: ='2020s (Final) '!J28 -> 0.17647059

Sheet Rep Order, 1966
A1: Tracking the Length of the Names of Ridings after the Representation Order, 1966
A2: Averages and Totals | B2: Names, 1966 | C2: New Names, 1970-1974 | D2: Length of Old Name | E2: Length of New Name | F2: Difference | G2: Longer? | H2: Province | I2: MP | J2: Party
B3: Perth | C3: Perth—Wilmot | D3: =LEN(B3) -> 5 | E3: =LEN(C3) -> 12 | F3: =E3-D3 -> 7 | G3: =IF(E3>D3, "Yes","No") -> Yes | H3: Ontario | I3: Jay Monteith | J3: Conservative
B4: Sarnia | C4: Sarnia—Lambton | D4: =LEN(B4) -> 6 | E4: =LEN(C4) -> 14 | F4: =E4-D4 -> 8 | G4: =IF(E4>D4, "Yes","No") -> Yes | H4: Ontario | I4: Jack Cullen | J4: Liberal
B5: Burnaby—Richmond | C5: Burnaby—Richmond—Delta | D5: =LEN(B5) -> 16 | E5: =LEN(C5) -> 22 | F5: =E5-D5 -> 6 | G5: =IF(E5>D5, "Yes","No") -> Yes | H5: British Columbia | I5: Thomas Goode | J5: Liberal
B6: Glengarry—Prescott | C6: Glengarry—Prescott—Russell | D6: =LEN(B6) -> 18 | E6: =LEN(C6) -> 26 | F6: =E6-D6 -> 8 | G6: =IF(E6>D6, "Yes","No") -> Yes | H6: Ontario | I6: Viateur Éthier | J6: Liberal
B7: Missisquoi | C7: Brome—Missisquoi | D7: =LEN(B7) -> 10 | E7: =LEN(C7) -> 16 | F7: =E7-D7 -> 6 | G7: =IF(E7>D7, "Yes","No") -> Yes | H7: Quebec | I7: Yves Forest | J7: Liberal
B8: Wellington—Grey | C8: Wellington—Grey—Dufferin—Waterloo | D8: =LEN(B8) -> 15 | E8: =LEN(C8) -> 33 | F8: =E8-D8 -> 18 | G8: =IF(E8>D8, "Yes","No") -> Yes | H8: Ontario | I8: William Howe | J8: Conservative
B9: Maisonneuve | C9: Maisonneuve—Rosemont | D9: =LEN(B9) -> 11 | E9: =LEN(C9) -> 20 | F9: =E9-D9 -> 9 | G9: =IF(E9>D9, "Yes","No") -> Yes | H9: Quebec | I9: Antonio Thomas | J9: Liberal
B10: Argenteuil | C10: Argenteuil—Deux-Montagnes | D10: =LEN(B10) -> 10 | E10: =LEN(C10) -> 25 | F10: =E10-D10 -> 15 | G10: =IF(E10>D10, "Yes","No") -> Yes | H10: Quebec | I10: Robert Major | J10: Liberal
B11: Lanark and Renfrew | C11: Lanark—Renfrew—Carleton | D11: =LEN(B11) -> 18 | E11: =LEN(C11) -> 23 | F11: =E11-D11 -> 5 | G11: =IF(E11>D11, "Yes","No") -> Yes | H11: Ontario | I11: Murray McBride | J11: Liberal
B12: Lakeshore | C12: Toronto—Lakeshore | D12: =LEN(B12) -> 9 | E12: =LEN(C12) -> 17 | F12: =E12-D12 -> 8 | G12: =IF(E12>D12, "Yes","No") -> Yes | H12: Ontario | I12: William Robinson | J12: Liberal
B13: Bonaventure | C13: Bonaventure—Îles-de-la-Madeleine | D13: =LEN(B13) -> 11 | E13: =LEN(C13) -> 32 | F13: =E13-D13 -> 21 | G13: =IF(E13>D13, "Yes","No") -> Yes | H13: Quebec | I13: Albert Béchard | J13: Liberal
B14: Surrey | C14: Surrey—White Rock | D14: =LEN(B14) -> 6 | E14: =LEN(C14) -> 17 | F14: =E14-D14 -> 11 | G14: =IF(E14>D14, "Yes","No") -> Yes | H14: British Columbia | I14: Barry Mather | J14: New Democrat
... B31: Berthier | C31: Berthier—Maskinongé | D31: =LEN(B31) -> 8 | E31: =LEN(C31) -> 19 | F31: =E31-D31 -> 11 | G31: =IF(E31>D31, "Yes","No") -> Yes | H31: Quebec | I31: Antonio Yanakis | J31: Liberal
A32: Averages | D32: =AVERAGE(D3:D31) -> 9.862069 | E32: =AVERAGE(E3:E31) -> 20.310345 | F32: =AVERAGE(F3:F31) -> 10.448276
A33: Totals | B33: =COUNTA(B3:B31) -> 29 | C33: =COUNTA(C3:C31) -> 29 | G33: =COUNTIF(G3:G31, "Yes") -> 29 | H33: =COUNTA(H3:H31) -> 29 | I33: =COUNTA(I3:I31) -> 29 | J33: =COUNTA(J3:J31) -> 29
A34: Percentage | G34: =G33/B33 -> 1
A35: Total Conservative | J35: =COUNTIF(J3:J31, "Conservative") -> 4
A36: % Conservative | J36: =J35/J33 -> 0.13793103
A37: Total Liberal | J37: =COUNTIF(J3:J31, "Liberal") -> 23
A38: % Liberal | J38: =J37/J33 -> 0.79310345
A39: Total New Democrat | J39: =COUNTIF(J3:J31, "New Democrat") -> 2
A40: % New Democrat | J40: =J39/J33 -> 0.068965517
A41: Total Quebec | H41: =COUNTIF(H3:H31, "Quebec") -> 12
A42: % Quebec | H42: =H41/H33 -> 0.4137931
A43: Total Ontario | H43: =COUNTIF(H3:H31, "Ontario") -> 15
A44: % Ontario | H44: =H43/H33 -> 0.51724138

Sheet Rep Order, 1976
A1: Tracking the Length of the Names of Ridings after the Representation Order, 1976
A2: Averages and Totals | B2: Names, 1976 | C2: New Names, 1976-1984 | D2: Length of Old Name | E2: Length of New Name | F2: Difference | G2: Longer? | H2: Province | I2: MP | J2: Party
B3: Beauharnois | C3: Beauharnois—Salaberry | D3: =LEN(B3) -> 11 | E3: =LEN(C3) -> 21 | F3: =E3-D3 -> 10 | G3: =IF(E3>D3, "Yes","No") -> Yes | H3: Quebec | I3: Gérald Laniel | J3: Liberal
B4: Deux-Montagnes | C4: Blaineville—Deux-Montagnes | D4: =LEN(B4) -> 14 | E4: =LEN(C4) -> 26 | F4: =E4-D4 -> 12 | G4: =IF(E4>D4, "Yes","No") -> Yes | H4: Quebec | I4: Francis Fox | J4: Liberal
B5: Brampton—Halton Hills | C5: Brampton—Georgetown | D5: =LEN(B5) -> 21 | E5: =LEN(C5) -> 19 | F5: =E5-D5 -> -2 | G5: =IF(E5>D5, "Yes","No") -> No | H5: Ontario | I5: Tony Abbott | J5: Liberal
B6: Cochrane-North | C6: Cochrane | D6: =LEN(B6) -> 14 | E6: =LEN(C6) -> 8 | F6: =E6-D6 -> -6 | G6: =IF(E6>D6, "Yes","No") -> No | H6: Ontario | I6: Ralph Stewart | J6: Liberal
B7: Huron | C7: Huron—Bruce | D7: =LEN(B7) -> 5 | E7: =LEN(C7) -> 11 | F7: =E7-D7 -> 6 | G7: =IF(E7>D7, "Yes","No") -> Yes | H7: Ontario | I7: Robert McKinley | J7: Conservative
B8: Kootenay East | C8: Kootenay East—Revelstoke | D8: =LEN(B8) -> 13 | E8: =LEN(C8) -> 24 | F8: =E8-D8 -> 11 | G8: =IF(E8>D8, "Yes","No") -> Yes | H8: British Columba | I8: Howard Johnston | J8: Conservative
B9: Mille-Îles | C9: Laval | D9: =LEN(B9) -> 10 | E9: =LEN(C9) -> 5 | F9: =E9-D9 -> -5 | G9: =IF(E9>D9, "Yes","No") -> No | H9: Quebec | I9: Marcel-Claude Roy | J9: Liberal
B10: Lethbridge | C10: Lethbridge—Foothills | D10: =LEN(B10) -> 10 | E10: =LEN(C10) -> 20 | F10: =E10-D10 -> 10 | G10: =IF(E10>D10, "Yes","No") -> Yes | H10: Alberta | I10: Kenneth Hurlburt | J10: Conservative
B11: Middlesex East | C11: London—Middlesex | D11: =LEN(B11) -> 14 | E11: =LEN(C11) -> 16 | F11: =E11-D11 -> 2 | G11: =IF(E11>D11, "Yes","No") -> Yes | H11: Ontario | I11: Joseph Condon | J11: Liberal
B12: Saint-Léonard | C12: Saint-Léonard—Anjou | D12: =LEN(B12) -> 13 | E12: =LEN(C12) -> 19 | F12: =E12-D12 -> 6 | G12: =IF(E12>D12, "Yes","No") -> Yes | H12: Quebec | I12: Monique Bégin | J12: Liberal
B13: Dufferin—Wellington | C13: Wellington—Dufferin—Simcoe | D13: =LEN(B13) -> 19 | E13: =LEN(C13) -> 26 | F13: =E13-D13 -> 7 | G13: =IF(E13>D13, "Yes","No") -> Yes | H13: Ontario | I13: Henry Beatty | J13: Conservative
B14: Maisonneuve | C14: Hochelaga—Maisonneuve | D14: =LEN(B14) -> 11 | E14: =LEN(C14) -> 21 | F14: =E14-D14 -> 10 | G14: =IF(E14>D14, "Yes","No") -> Yes | H14: Quebec | I14: Serge Joyal | J14: Liberal
... B20: Westmount | C20: Saint-Henri—Westmount | D20: =LEN(B20) -> 9 | E20: =LEN(C20) -> 21 | F20: =E20-D20 -> 12 | G20: =IF(E20>D20, "Yes","No") -> Yes | H20: Quebec | I20: Donald Johnston | J20: Liberal
B21: Hochelaga | C21: Sainte-Marie | D21: =LEN(B21) -> 9 | E21: =LEN(C21) -> 12 | F21: =E21-D21 -> 3 | G21: =IF(E21>D21, "Yes","No") -> Yes | H21: Quebec | J21: Liberal
B22: Sarnia | C22: Sarnia—Lambton | D22: =LEN(B22) -> 6 | E22: =LEN(C22) -> 14 | F22: =E22-D22 -> 8 | G22: =IF(E22>D22, "Yes","No") -> Yes | H22: Ontario | I22: Jack Cullen | J22: Liberal
B23: Rimouski | C23: Rimouski—Témiscouata | D23: =LEN(B23) -> 8 | E23: =LEN(C23) -> 20 | F23: =E23-D23 -> 12 | G23: =IF(E23>D23, "Yes","No") -> Yes | H23: Quebec | I23: Eudore Allard | J23: Social Credit
B24: Hastings—Frontenac | C24: Hastings—Frontenac—Lennox and Addington | D24: =LEN(B24) -> 18 | E24: =LEN(C24) -> 39 | F24: =E24-D24 -> 21 | G24: =IF(E24>D24, "Yes","No") -> Yes | H24: Ontario | I24: Almonte Alkenbrack | J24: Conservative
B25: Notre-Dame-de-Grâce | C25: Notre-Dame-de-Grâce—Lachine East | D25: =LEN(B25) -> 19 | E25: =LEN(C25) -> 32 | F25: =E25-D25 -> 13 | G25: =IF(E25>D25, "Yes","No") -> Yes | H25: Quebec | I25: William Allmand | J25: Liberal
B26: Berthier—Maskinongé | C26: Berthier—Maskinongé—Lanaudière | D26: =LEN(B26) -> 19 | E26: =LEN(C26) -> 30 | F26: =E26-D26 -> 11 | G26: =IF(E26>D26, "Yes","No") -> Yes | H26: Quebec | I26: Antonio Yanakis | J26: Liberal
B27: Cochrane | C27: Cochrane—Superior | D27: =LEN(B27) -> 9 | E27: =LEN(C27) -> 17 | F27: =E27-D27 -> 8 | G27: =IF(E27>D27, "Yes","No") -> Yes | H27: Ontario | I27: Keith Penner | J27: Liberal
B28: Argenteuil | C28: Argenteuil—Papineau | D28: =LEN(B28) -> 10 | E28: =LEN(C28) -> 19 | F28: =E28-D28 -> 9 | G28: =IF(E28>D28, "Yes","No") -> Yes | H28: Quebec | I28: André Ouellet | J28: Liberal
B29: Verdun | C29: Verdun—Saint Paul | D29: =LEN(B29) -> 6 | E29: =LEN(C29) -> 17 | F29: =E29-D29 -> 11 | G29: =IF(E29>D29, "Yes","No") -> Yes | H29: Quebec | I29: Pierre Savard | J29: Liberal
B30: Sainte-Anne | C30: Montréal—Sainte-Anne | D30: =LEN(B30) -> 11 | E30: =LEN(C30) -> 20 | F30: =E30-D30 -> 9 | G30: =IF(E30>D30, "Yes","No") -> Yes | H30: Quebec | J30: Liberal
B31: Mercier | C31: Montréal—Mercier | D31: =LEN(B31) -> 7 | E31: =LEN(C31) -> 16 | F31: =E31-D31 -> 9 | G31: =IF(E31>D31, "Yes","No") -> Yes | H31: Quebec | I31: Prosper Boulanger | J31: Liberal
B32: Richmond | C32: Richmond—Wolfe | D32: =LEN(B32) -> 8 | E32: =LEN(C32) -> 14 | F32: =E32-D32 -> 6 | G32: =IF(E32>D32, "Yes","No") -> Yes | H32: Quebec | I32: Alain Tardif | J32: Liberal
B33: Montmorency | C33: Montmorency—Orléans | D33: =LEN(B33) -> 11 | E33: =LEN(C33) -> 19 | F33: =E33-D33 -> 8 | G33: =IF(E33>D33, "Yes","No") -> Yes | H33: Quebec | I33: Louis Duclos | J33: Liberal
B34: Laprairie | C34: La Prairie | D34: =LEN(B34) -> 10 | E34: =LEN(C34) -> 10 | F34: =E34-D34 -> 0 | G34: =IF(E34>D34, "Yes","No") -> No | H34: Quebec | I34: Pierre Deniger | J34: Liberal
B35: Missisquoi | C35: Brome—Missisquoi | D35: =LEN(B35) -> 10 | E35: =LEN(C35) -> 16 | F35: =E35-D35 -> 6 | G35: =IF(E35>D35, "Yes","No") -> Yes | H35: Quebec | I35: André Bachand | J35: Liberal
B36: Saint-Michel | C36: Saint-Michel—Ahuntsic | D36: =LEN(B36) -> 12 | E36: =LEN(C36) -> 21 | F36: =E36-D36 -> 9 | G36: =IF(E36>D36, "Yes","No") -> Yes | H36: Quebec | I36: Marie Killens | J36: Liberal
B37: Dauphin | C37: Dauphin—Swan River | D37: =LEN(B37) -> 7 | E37: =LEN(C37) -> 18 | F37: =E37-D37 -> 11 | G37: =IF(E37>D37, "Yes","No") -> Yes | H37: Manitoba | I37: Laverne Lewycky | J37: New Democrat
B38: Hull | C38: Hull—Aylmer | D38: =LEN(B38) -> 4 | E38: =LEN(C38) -> 11 | F38: =E38-D38 -> 7 | G38: =IF(E38>D38, "Yes","No") -> Yes | H38: Quebec | I38: Joseph Isabelle | J38: Liberal
A39: Averages | D39: =AVERAGE(D3:D38) -> 11.5 | E39: =AVERAGE(E3:E38) -> 19.666667 | F39: =AVERAGE(F3:F38) -> 8.1666667
A40: Totals | B40: =COUNTA(B3:B38) -> 36 | C40: =COUNTA(C3:C38) -> 36 | G40: =COUNTIF(G3:G38, "Yes") -> 32 | H40: =COUNTA(H3:H38) -> 36 | J40: =COUNTA(J3:J38) -> 36
A41: Percentage | G41: =G40/B40 -> 0.88888889
A42: Total Conservative | J42: =COUNTIF(J3:J38, "Conservative") -> 8
A43: % Conservative | J43: =J42/J40 -> 0.22222222
A44: Total Liberal | J44: =COUNTIF(J3:J38, "Liberal") -> 26
A45: % Liberal | J45: =J44/J40 -> 0.72222222
A46: Total New Democrat | J46: =COUNTIF(J3:J38, "New Democrat") -> 1
A47: % New Democrat | J47: =J46/J40 -> 0.027777778
A48: Total Quebec | H48: =COUNTIF(H3:H38, "Quebec") -> 22
A49: % Quebec | H49: =H48/H40 -> 0.61111111
A50: Total Ontario | H50: =COUNTIF(H3:H38, "Ontario") -> 9
A51: % Ontario | H51: =H50/H40 -> 0.25

Sheet Rep Order, 1987
A1: Tracking the Length of the Names of Ridings after the Representation Order, 1987
A2: Averages and Totals | B2: Names, 1987 | C2: New Names, 1988-1990 | D2: Length of Old Name | E2: Length of New Name | F2: Difference | G2: Longer? | H2: Province | I2: MP | J2: Party
B3: Chapleau | C3: Gatineau—La Lièvre | D3: =LEN(B3) -> 8 | E3: =LEN(C3) -> 18 | F3: =E3-D3 -> 10 | G3: =IF(E3>D3, "Yes","No") -> Yes | H3: Quebec | I3: Mark Assad | J3: Liberal
B4: Saint-Laurent | C4: Saint-Laurent—Cartierville | D4: =LEN(B4) -> 13 | E4: =LEN(C4) -> 26 | F4: =E4-D4 -> 13 | G4: =IF(E4>D4, "Yes","No") -> Yes | H4: Quebec | I4: Shirley Maheu | J4: Liberal
B5: Markham | C5: Markham—Whitchurch—Stouffville | D5: =LEN(B5) -> 7 | E5: =LEN(C5) -> 30 | F5: =E5-D5 -> 23 | G5: =IF(E5>D5, "Yes","No") -> Yes | H5: Ontario | I5: William Attewell | J5: Conservative
B6: Fredericton | C6: Fredericton—York-Sunbury | D6: =LEN(B6) -> 11 | E6: =LEN(C6) -> 24 | F6: =E6-D6 -> 13 | G6: =IF(E6>D6, "Yes","No") -> Yes | H6: New Brunswick | I6: John Bird | J6: Conservative
B7: Renfrew | C7: Renfrew—Nipissing—Pembroke | D7: =LEN(B7) -> 7 | E7: =LEN(C7) -> 26 | F7: =E7-D7 -> 19 | G7: =IF(E7>D7, "Yes","No") -> Yes | H7: Ontario | I7: Leonard Hopkins | J7: Liberal
B8: Restigouche | C8: Restigouche—Chaleur | D8: =LEN(B8) -> 11 | E8: =LEN(C8) -> 19 | F8: =E8-D8 -> 8 | G8: =IF(E8>D8, "Yes","No") -> Yes | H8: Quebec | I8: Guy Arsenault | J8: Liberal
B9: Windsor—Lake St. Clair | C9: Windsor—St. Clair | D9: =LEN(B9) -> 22 | E9: =LEN(C9) -> 17 | F9: =E9-D9 -> -5 | G9: =IF(E9>D9, "Yes","No") -> No | H9: Ontario | I9: Howard McCurdy | J9: New Democrat
B10: Brampton—Malton | C10: Brampton—Gore—Malton | D10: =LEN(B10) -> 15 | E10: =LEN(C10) -> 20 | F10: =E10-D10 -> 5 | G10: =IF(E10>D10, "Yes","No") -> Yes | H10: Ontario | I10: Harry Chadwick | J10: Conservative
B11: Montmorency—Orléans | C11: Beauport—Montmorency—Orléans | D11: =LEN(B11) -> 19 | E11: =LEN(C11) -> 28 | F11: =E11-D11 -> 9 | G11: =IF(E11>D11, "Yes","No") -> Yes | H11: Quebec | I11: Charles Deblois | J11: Conservative
B12: Elgin | C12: Elgin—Norfolk | D12: =LEN(B12) -> 5 | E12: =LEN(C12) -> 13 | F12: =E12-D12 -> 8 | G12: =IF(E12>D12, "Yes","No") -> Yes | H12: Ontario | I12: Kenneth Monteith | J12: Conservative
B13: Selkirk | C13: Selkirk—Red River | D13: =LEN(B13) -> 7 | E13: =LEN(C13) -> 17 | F13: =E13-D13 -> 10 | G13: =IF(E13>D13, "Yes","No") -> Yes | H13: Manitoba | I13: David Bjornson | J13: Conservative
B14: Surrey—White Rock | C14: Surrey—White Rock—South Langley | D14: =LEN(B14) -> 17 | E14: =LEN(C14) -> 31 | F14: =E14-D14 -> 14 | G14: =IF(E14>D14, "Yes","No") -> Yes | H14: British Columbia | I14: Benno Friesen | J14: Conservative
... B19: Duvernay | C19: Laval East | D19: =LEN(B19) -> 8 | E19: =LEN(C19) -> 10 | F19: =E19-D19 -> 2 | G19: =IF(E19>D19, "Yes","No") -> Yes | H19: Quebec | I19: Vincent Della Noce | J19: Conservative
A20: Averages | D20: =AVERAGE(D3:D19) -> 11.235294 | E20: =AVERAGE(E3:E19) -> 18.941176 | F20: =AVERAGE(F3:F19) -> 7.7058824
A21: Totals | B21: =COUNTA(B3:B19) -> 17 | C21: =COUNTA(C3:C19) -> 17 | G21: =COUNTIF(G3:G19, "Yes") -> 14 | H21: =COUNTA(H3:H19) -> 17 | I21: =COUNTA(I3:I19) -> 17 | J21: =COUNTA(J3:J19) -> 17
A22: Percentage | G22: =G21/B21 -> 0.82352941
A23: Total Quebec | H23: =COUNTIF(H3:H19, "Quebec") -> 8
A24: % Quebec | H24: =H23/H21 -> 0.47058824
A25: Total Ontario | H25: =COUNTIF(H3:H19, "Ontario") -> 5
A26: % Ontario | H26: =H25/H21 -> 0.29411765
A27: Total Conservative | J27: =COUNTIF(J3:J19, "Conservative") -> 11
A28: % Conservative | J28: =J27/J21 -> 0.64705882
A29: Total Liberal | J29: =COUNTIF(J3:J19, "Liberal") -> 5
A30: % Liberal | J30: =J29/J21 -> 0.29411765
A31: Total New Democrat | J31: =COUNTIF(J3:J19, "New Democrat") -> 1
A32: % New Democrat | J32: =J31/J21 -> 0.058823529

Sheet Rep Order, 1996
A1: Tracking the Length of the Names of Ridings after the Representation Order, 1996
A2: Averages and Totals | B2: Names, 1996 | C2: New Names, 1996-2000 | D2: Length of Old Name | E2: Length of New Name | F2: Difference | G2: Longer? | H2: Province | I2: MP | J2: Party
B3: Bellechasse—Montmagny—L'Islet | C3: Bellechasse—Etchemins—Montmagny—L'Islet | D3: =LEN(B3) -> 29 | E3: =LEN(C3) -> 39 | F3: =E3-D3 -> 10 | G3: =IF(E3>D3, "Yes","No") -> Yes | H3: Quebec | I3: François Langlois | J3: Bloc
B4: Gaspé—Bonaventure—Îles-de-la-Madeleine | C4: Bonaventure—Gaspé—Îles-de-la-Madeleine—Pabok | D4: =LEN(B4) -> 38 | E4: =LEN(C4) -> 44 | F4: =E4-D4 -> 6 | G4: =IF(E4>D4, "Yes","No") -> Yes | H4: Quebec | I4: Yvan Bernier | J4: Bloc
B5: Kamouraska—Rivière-du-Loup—Témiscouata | C5: Kamouraska—Rivière-du-Loup—Témiscouata—Les Basques | D5: =LEN(B5) -> 38 | E5: =LEN(C5) -> 50 | F5: =E5-D5 -> 12 | G5: =IF(E5>D5, "Yes","No") -> Yes | H5: Quebec | I5: Paul Crete | J5: Bloc
B6: Lachine—Notre-Dame-de-Grâce | C6: Notre-Dame-de-Grâce—Lachine | D6: =LEN(B6) -> 27 | E6: =LEN(C6) -> 27 | F6: =E6-D6 -> 0 | G6: =IF(E6>D6, "Yes","No") -> No | H6: Quebec | I6: Warren Allmand | J6: Liberal
B7: Rimouski | C7: Rimouski—Mitis | D7: =LEN(B7) -> 8 | E7: =LEN(C7) -> 14 | F7: =E7-D7 -> 6 | G7: =IF(E7>D7, "Yes","No") -> Yes | H7: Quebec | I7: Suzanne Tremblay | J7: Bloc
B8: Rouyne-Noranda—Témiscouata | C8: Témiscouata | D8: =LEN(B8) -> 26 | E8: =LEN(C8) -> 11 | F8: =E8-D8 -> -15 | G8: =IF(E8>D8, "Yes","No") -> No | H8: Quebec | J8: Bloc
B9: Saint-Hubert | C9: Saint-Bruno—Saint-Hubert | D9: =LEN(B9) -> 12 | E9: =LEN(C9) -> 24 | F9: =E9-D9 -> 12 | G9: =IF(E9>D9, "Yes","No") -> Yes | H9: Quebec | I9: Pierrette Venne | J9: Bloc
B10: Vaudreuil | C10: Vaudreuil—Soulanges | D10: =LEN(B10) -> 9 | E10: =LEN(C10) -> 19 | F10: =E10-D10 -> 10 | G10: =IF(E10>D10, "Yes","No") -> Yes | H10: Quebec | I10: Nunzio Discepola | J10: Liberal
B11: Algoma | C11: Algoma—Manitoulin | D11: =LEN(B11) -> 6 | E11: =LEN(C11) -> 17 | F11: =E11-D11 -> 11 | G11: =IF(E11>D11, "Yes","No") -> Yes | H11: Ontario | I11: Brent St. Denis | J11: Liberal
B12: Barrie—Simcoe | C12: Barrie—Simcoe—Bradford | D12: =LEN(B12) -> 13 | E12: =LEN(C12) -> 22 | F12: =E12-D12 -> 9 | G12: =IF(E12>D12, "Yes","No") -> Yes | H12: Ontario | J12: Liberal
B13: Beaches—Woodbine | C13: Beaches—East York | D13: =LEN(B13) -> 16 | E13: =LEN(C13) -> 17 | F13: =E13-D13 -> 1 | G13: =IF(E13>D13, "Yes","No") -> Yes | H13: Ontario | I13: Maria Minna | J13: Liberal
B14: Gloucester—Carleton | C14: Carleton—Gloucester | D14: =LEN(B14) -> 19 | E14: =LEN(C14) -> 19 | F14: =E14-D14 -> 0 | G14: =IF(E14>D14, "Yes","No") -> No | H14: Ontario | I14: Eugene Bellemare | J14: Liberal
B15: London—Adelaide | C15: London North Centre | D15: =LEN(B15) -> 15 | E15: =LEN(C15) -> 19 | F15: =E15-D15 -> 4 | G15: =IF(E15>D15, "Yes","No") -> Yes | H15: Ontario | J15: Liberal
B16: Vaughan—Aurora | C16: Vaughan—King—Aurora | D16: =LEN(B16) -> 14 | E16: =LEN(C16) -> 19 | F16: =E16-D16 -> 5 | G16: =IF(E16>D16, "Yes","No") -> Yes | H16: Ontario | I16: Maurizio Bevilacqua | J16: Liberal
B17: Winnipeg North | C17: Winnipeg North Centre | D17: =LEN(B17) -> 14 | E17: =LEN(C17) -> 21 | F17: =E17-D17 -> 7 | G17: =IF(E17>D17, "Yes","No") -> Yes | H17: Manitoba | I17: David Walker | J17: Liberal
B18: Winnipeg North Centre | C18: Winnipeg Centre | D18: =LEN(B18) -> 21 | E18: =LEN(C18) -> 15 | F18: =E18-D18 -> -6 | G18: =IF(E18>D18, "Yes","No") -> No | H18: Manitoba | I18: Rey Pagtakhan | J18: Liberal
B19: Winnipeg—St. Paul | C19: Winnipeg North—St. Paul | D19: =LEN(B19) -> 17 | E19: =LEN(C19) -> 23 | F19: =E19-D19 -> 6 | G19: =IF(E19>D19, "Yes","No") -> Yes | H19: Manitoba | J19: Liberal
B20: Saskatoon—Rosetown | C20: Saskatoon—Rosetown—Biggar | D20: =LEN(B20) -> 18 | E20: =LEN(C20) -> 25 | F20: =E20-D20 -> 7 | G20: =IF(E20>D20, "Yes","No") -> Yes | H20: Saskatchewan | I20: Christopher Axworthy | J20: New Democrat
B21: Regina—Arm River | C21: Regina—Lumsden—Lake Centre | D21: =LEN(B21) -> 16 | E21: =LEN(C21) -> 26 | F21: =E21-D21 -> 10 | G21: =IF(E21>D21, "Yes","No") -> Yes | H21: Saskatchewan | I21: John Solomon | J21: New Democrat
B22: Langley—Matsqui | C22: Langley—Abbotsford | D22: =LEN(B22) -> 15 | E22: =LEN(C22) -> 18 | F22: =E22-D22 -> 3 | G22: =IF(E22>D22, "Yes","No") -> Yes | H22: British Columbia | I22: Randy White | J22: Conservative
B23: North Okanagan—Shuswap | C23: Okanagan—Shuswap | D23: =LEN(B23) -> 22 | E23: =LEN(C23) -> 16 | F23: =E23-D23 -> -6 | G23: =IF(E23>D23, "Yes","No") -> No | H23: British Columbia | I23: Darrel Stinson | J23: Conservative
B24: Beauséjour | C24: Beauséjour—Petitcodiac | D24: =LEN(B24) -> 10 | E24: =LEN(C24) -> 22 | F24: =E24-D24 -> 12 | G24: =IF(E24>D24, "Yes","No") -> Yes | H24: New Brunswick | I24: Fernand Robichaud | J24: Liberal
B25: Bras d'Or | C25: Bras d'Or—Cape Breton | D25: =LEN(B25) -> 9 | E25: =LEN(C25) -> 21 | F25: =E25-D25 -> 12 | G25: =IF(E25>D25, "Yes","No") -> Yes | H25: Nova Scotia | I25: Michelle Dockrill | J25: New Democrat
A26: Only in French | B26: West Nova | C26: Ouest Nova | D26: =LEN(B26) -> 9 | E26: =LEN(C26) -> 10 | F26: =E26-D26 -> 1 | G26: =IF(E26>D26, "Yes","No") -> Yes | H26: Nova Scotia | I26: Mark Muise | J26: Conservative
B27: Charlotte | C27: New Brunswick Southwest | D27: =LEN(B27) -> 9 | E27: =LEN(C27) -> 23 | F27: =E27-D27 -> 14 | G27: =IF(E27>D27, "Yes","No") -> Yes | H27: New Brunswick | I27: Gregory Thompson | J27: Conservative
B28: Moncton | C28: Moncton—Riverview—Dieppe | D28: =LEN(B28) -> 7 | E28: =LEN(C28) -> 24 | F28: =E28-D28 -> 17 | G28: =IF(E28>D28, "Yes","No") -> Yes | H28: New Brunswick | I28: Claudette Bradshaw | J28: Liberal
B29: Abitibi | C29: Abitibi—Baie-James—Nunavik | D29: =LEN(B29) -> 7 | E29: =LEN(C29) -> 26 | F29: =E29-D29 -> 19 | G29: =IF(E29>D29, "Yes","No") -> Yes | H29: Quebec | I29: Guy St-Julien | J29: Liberal
B30: Beauport—Montmorency—Orléans | C30: Beauport—Montmorency—Côte-de-Beaupré—Îles-d'Orléans | D30: =LEN(B30) -> 28 | E30: =LEN(C30) -> 51 | F30: =E30-D30 -> 23 | G30: =IF(E30>D30, "Yes","No") -> Yes | H30: Quebec | I30: Michel Guimond | J30: Bloc
B31: Lévis | C31: Lévis-et-Chutes-de-la-Chaudières | D31: =LEN(B31) -> 5 | E31: =LEN(C31) -> 32 | F31: =E31-D31 -> 27 | G31: =IF(E31>D31, "Yes","No") -> Yes | H31: Quebec | I31: Antoine Dubé | J31: Bloc
B32: Richelieu | C32: Bas-Richelieu—Nicolet—Bécancour | D32: =LEN(B32) -> 9 | E32: =LEN(C32) -> 31 | F32: =E32-D32 -> 22 | G32: =IF(E32>D32, "Yes","No") -> Yes | H32: Quebec | I32: Louis Plamondon | J32: Bloc
B33: Sainte-Eustache—Sainte-Thérèse | C33: Rivières-des-Milles-Ïles | D33: =LEN(B33) -> 30 | E33: =LEN(C33) -> 24 | F33: =E33-D33 -> -6 | G33: =IF(E33>D33, "Yes","No") -> No | H33: Quebec | I33: Gilles Perron | J33: Bloc
B34: Verchères | C34: Verchères—Les-Patriotes | D34: =LEN(B34) -> 9 | E34: =LEN(C34) -> 23 | F34: =E34-D34 -> 14 | G34: =IF(E34>D34, "Yes","No") -> Yes | H34: Quebec | I34: Stéphane Bergeron | J34: Bloc
B35: Bramalea—Gore—Malton | C35: Bramalea—Gore—Malton—Springdale | D35: =LEN(B35) -> 20 | E35: =LEN(C35) -> 31 | F35: =E35-D35 -> 11 | G35: =IF(E35>D35, "Yes","No") -> Yes | H35: Ontario | I35: Gurbax Malhi | J35: Liberal
B36: Kent—Essex | C36: Chatham—Kent Essex | D36: =LEN(B36) -> 10 | E36: =LEN(C36) -> 18 | F36: =E36-D36 -> 8 | G36: =IF(E36>D36, "Yes","No") -> Yes | H36: Ontario | I36: Reginald Pickard | J36: Liberal
B37: Thunder Bay—Nipigon | C37: Thunder Bay—Superior North | D37: =LEN(B37) -> 19 | E37: =LEN(C37) -> 26 | F37: =E37-D37 -> 7 | G37: =IF(E37>D37, "Yes","No") -> Yes | H37: Ontario | I37: Joseph Comuzzi | J37: Liberal
B38: Victoria—Haliburton | C38: Haliburton—Victoria—Brock | D38: =LEN(B38) -> 19 | E38: =LEN(C38) -> 25 | F38: =E38-D38 -> 6 | G38: =IF(E38>D38, "Yes","No") -> Yes | H38: Ontario | I38: John O'Reilly | J38: Liberal
... B59: Wanuskewin | C59: Saskatoon—Wanuskewin | D59: =LEN(B59) -> 10 | E59: =LEN(C59) -> 20 | F59: =E59-D59 -> 10 | G59: =IF(E59>D59, "Yes","No") -> Yes | H59: Saskatchewan | I59: Maurice Vellacott | J59: Conservative
A60: Averages | D60: =AVERAGE(D3:D59) -> 15.964912 | E60: =AVERAGE(E3:E59) -> 25.298246 | F60: =AVERAGE(F3:F59) -> 9.3333333
A61: Totals | B61: =COUNTA(B3:B59) -> 57 | C61: =COUNTA(C3:C59) -> 57 | G61: =COUNTIF(G3:G59, "Yes") -> 49 | H61: =COUNTA(H3:H59) -> 57 | J61: =COUNTA(J3:J59) -> 57
A62: Percentage | G62: =G61/B61 -> 0.85964912
A63: Total Quebec | H63: =COUNTIF(H3:H59, "Quebec") -> 22
A64: % Quebec | H64: =H63/H61 -> 0.38596491
A65: Total Ontario | H65: =COUNTIF(H3:H59, "Ontario") -> 15
A66: % Ontario | H66: =H65/H61 -> 0.26315789
A67: Total Conservative | J67: =COUNTIF(J3:J59, "Conservative") -> 8
A68: % Conservative | J68: =J67/J61 -> 0.14035088
A69: Total Liberal | J69: =COUNTIF(J3:J59, "Liberal") -> 26
A70: % Liberal | J70: =J69/J61 -> 0.45614035
A71: Total Bloc | J71: =COUNTIF(J3:J59, "Bloc") -> 17
A72: % Bloc | J72: =J71/J61 -> 0.29824561
A73: Total New Democrat | J73: =COUNTIF(J3:J59, "New Democrat") -> 6
A74: % New Democrat | J74: =J73/J61 -> 0.10526316

Sheet 2000s
A1: Tracking the Length of the Names of Ridings in the 2000s
A2: Averages and Totals | B2: Names under the Representation Order, 2003 | C2: Names Under the Riding Name Change Act, 2004 | D2: Length of Name, 2003 | E2: Length of Name, 2004 | F2: Difference | G2: Longer? | H2: Province | I2: MP | J2: Party
B3: Bonavista—Exploits | C3: Bonavista—Gander—Grand Falls—Windsor | D3: =LEN(B3) -> 18 | E3: =LEN(C3) -> 36 | F3: =E3-D3 -> 18 | G3: =IF(E3>D3, "Yes","No") -> Yes | H3: Newfoundland & Labrador | I3: Scott Simms | J3: Liberal
B4: St. John’s North | C4: St. John’s East | D4: =LEN(B4) -> 16 | E4: =LEN(C4) -> 15 | F4: =E4-D4 -> -1 | G4: =IF(E4>D4, "Yes","No") -> No | H4: Newfoundland & Labrador | I4: Norman E. Doyle | J4: Conservative
B5: St. John’s South | C5: St. John’s South—Mount Pearl | D5: =LEN(B5) -> 16 | E5: =LEN(C5) -> 28 | F5: =E5-D5 -> 12 | G5: =IF(E5>D5, "Yes","No") -> Yes | H5: Newfoundland & Labrador | I5: Loyola Hearn | J5: Conservative
B6: North Nova | C6: Cumberland—Colchester—Musquodoboit Valley | D6: =LEN(B6) -> 10 | E6: =LEN(C6) -> 41 | F6: =E6-D6 -> 31 | G6: =IF(E6>D6, "Yes","No") -> Yes | H6: Nova Scotia | I6: William Casey | J6: Conservative
B7: Fundy | C7: Fundy Royal | D7: =LEN(B7) -> 5 | E7: =LEN(C7) -> 11 | F7: =E7-D7 -> 6 | G7: =IF(E7>D7, "Yes","No") -> Yes | H7: New Brunswick | I7: Rob Moore | J7: Conservative
B8: St. Croix—Belleisle | C8: New Brunswick Southwest | D8: =LEN(B8) -> 19 | E8: =LEN(C8) -> 23 | F8: =E8-D8 -> 4 | G8: =IF(E8>D8, "Yes","No") -> Yes | H8: New Brunswick | I8: Gregory F. Thompson | J8: Conservative
B9: Argenteuil—Mirabel | C9: Argenteuil—Papineau—Mirabel | D9: =LEN(B9) -> 18 | E9: =LEN(C9) -> 27 | F9: =E9-D9 -> 9 | G9: =IF(E9>D9, "Yes","No") -> Yes | H9: Quebec | I9: Mario Laframboise | J9: Bloc
B10: Beauport | C10: Beauport—Limoilou | D10: =LEN(B10) -> 8 | E10: =LEN(C10) -> 17 | F10: =E10-D10 -> 9 | G10: =IF(E10>D10, "Yes","No") -> Yes | H10: Quebec | I10: Christian Simard | J10: Bloc
B11: Charlesbourg | C11: Charlesbourg—Haute-Saint-Charles | D11: =LEN(B11) -> 12 | E11: =LEN(C11) -> 32 | F11: =E11-D11 -> 20 | G11: =IF(E11>D11, "Yes","No") -> Yes | H11: Quebec | I11: Richard Marceau | J11: Bloc
B12: Charlevoix—Montmorency | C12: Montmorency—Charlevoix—Haute-Côte-Nord | D12: =LEN(B12) -> 22 | E12: =LEN(C12) -> 38 | F12: =E12-D12 -> 16 | G12: =IF(E12>D12, "Yes","No") -> Yes | H12: Quebec | I12: Michel Guimond | J12: Bloc
B13: Laurier | C13: Laurier—Sainte-Marie | D13: =LEN(B13) -> 7 | E13: =LEN(C13) -> 20 | F13: =E13-D13 -> 13 | G13: =IF(E13>D13, "Yes","No") -> Yes | H13: Quebec | I13: Gilles Duceppe | J13: Bloc
B14: Longueuil | C14: Longueuil—Pierre-Boucher | D14: =LEN(B14) -> 9 | E14: =LEN(C14) -> 24 | F14: =E14-D14 -> 15 | G14: =IF(E14>D14, "Yes","No") -> Yes | H14: Quebec | I14: Caroline St-Hilaire | J14: Bloc
... B40: West Vancouver—Sunshine Coast | C40: West Vancouver—Sunshine Coast—Sea to Sky Country | D40: =LEN(B40) -> 29 | E40: =LEN(C40) -> 48 | F40: =E40-D40 -> 19 | G40: =IF(E40>D40, "Yes","No") -> Yes | H40: British Columbia | I40: John Reynolds | J40: Conservative
A41: Averages | D41: =AVERAGE(D3:D40) -> 16 | E41: =AVERAGE(E3:E40) -> 27 | F41: =AVERAGE(F3:F40) -> 11
A42: Totals | B42: =COUNTA(B3:B40) -> 38 | C42: =COUNTA(C3:C40) -> 38 | G42: =COUNTIF(G3:G39, "Yes") -> 29 | H42: =COUNTA(H3:H40) -> 38 | I42: =COUNTA(I3:I40) -> 38 | J42: =COUNTA(J3:J40) -> 38
A43: Percentage | G43: =G42/B42 -> 0.76315789
A44: Total Conservative | J44: =COUNTIF(J3:J40, "Conservative") -> 21
A45: % Conservatives | J45: =J44/J42 -> 0.55263158
A46: Total Liberal | J46: =COUNTIF(J3:J40, "Liberal") -> 4
A47: % Liberals | J47: =J46/J42 -> 0.10526316
A48: Total Bloc | J48: =COUNTIF(J3:J40, "Bloc") -> 13
A49: % Bloc | J49: =J48/J42 -> 0.34210526
A50: Total New Democrats
A51: % New Democrats
A52: Total Quebec | H52: =COUNTIF(H3:H40, "Quebec") -> 13
A53: % Quebec | H53: =H52/H42 -> 0.34210526
A54: Total Ontario | H54: =COUNTIF(H3:H39, "Ontario") -> 5
A55: % Ontario | H55: =H54/H42 -> 0.13157895

Sheet 2000s (Province & Party)
A1: Tracking the Length of the Names of Ridings in the 2000s
A2: Averages and Totals | B2: Province | C2: MP | D2: Party
B3: Newfoundland & Labrador | C3: Scott Simms | D3: Liberal
B4: Newfoundland & Labrador | C4: Norman E. Doyle | D4: Conservative
B5: Newfoundland & Labrador | C5: Loyola Hearn | D5: Conservative
B6: Nova Scotia | C6: William Casey | D6: Conservative
B7: New Brunswick | C7: Rob Moore | D7: Conservative
B8: New Brunswick | C8: Gregory F. Thompson | D8: Conservative
B9: Quebec | C9: Mario Laframboise | D9: Bloc
B10: Quebec | C10: Christian Simard | D10: Bloc
B11: Quebec | C11: Richard Marceau | D11: Bloc
B12: Quebec | C12: Michel Guimond | D12: Bloc
B13: Quebec | C13: Gilles Duceppe | D13: Bloc
B14: Quebec | C14: Caroline St-Hilaire | D14: Bloc
... B38: British Columbia | C38: James Gouk | D38: Conservative
A39: Totals | B39: =COUNTA(B3:B38) -> 36 | C39: =COUNTA(C3:C38) -> 36 | D39: =COUNTA(D3:D38) -> 36
A40: Percentage
A41: Total Conservative | D41: =COUNTIF(D3:D38, "Conservative") -> 20
A42: % Conservatives | D42: =D41/D39 -> 0.55555556
A43: Total Liberal | D43: =COUNTIF(D3:D38, "Liberal") -> 4
A44: % Liberals | D44: =D43/D39 -> 0.11111111
A45: Total Bloc | D45: =COUNTIF(D3:D38, "Bloc") -> 12
A46: % Bloc | D46: =D45/D39 -> 0.33333333
A47: Total New Democrats
A48: % New Democrats

Sheet 2010s
A1: Tracking the Length of the Names of Ridings in the 2010s
A2: Averages and Totals | B2: Names under the Representation Order, 2013 | C2: Names Under the Riding Name Change Act, 2014 | D2: Length of Name, 2013 | E2: Length of Name, 2014 | F2: Difference | G2: Longer? | H2: Province | I2: MP | J2: Party
B3: Blainville | C3: Thérèse-De Blainville | D3: =LEN(B3) -> 10 | E3: =LEN(C3) -> 21 | F3: =E3-D3 -> 11 | G3: =IF(E3>D3, "Yes","No") -> Yes | H3: Quebec | I3: Charmine Borg | J3: New Democrat
B4: Boucher—Les Patriotes—Verchères | C4: Pierre-Boucher—Les Patriotes—Verchères | D4: =LEN(B4) -> 31 | E4: =LEN(C4) -> 38 | F4: =E4-D4 -> 7 | G4: =IF(E4>D4, "Yes","No") -> Yes | H4: Quebec | I4: Sana Hassainia | J4: New Democrat
B5: Centre-du-Bas-Saint-Laurent | C5: Rimouski-Neigette—Témiscouata—Les Basques | D5: =LEN(B5) -> 27 | E5: =LEN(C5) -> 41 | F5: =E5-D5 -> 14 | G5: =IF(E5>D5, "Yes","No") -> Yes | H5: Quebec | I5: Guy Caron | J5: New Democrat
B6: Charlevoix—Montmorency | C6: Beauport—Côte-de-Beaupré—Île d’Orléans—​Charlevoix | D6: =LEN(B6) -> 22 | E6: =LEN(C6) -> 50 | F6: =E6-D6 -> 28 | G6: =IF(E6>D6, "Yes","No") -> Yes | H6: Quebec | I6: Raymond Cote | J6: New Democrat
B7: Chicoutimi | C7: Chicoutimi—Le Fjord | D7: =LEN(B7) -> 10 | E7: =LEN(C7) -> 19 | F7: =E7-D7 -> 9 | G7: =IF(E7>D7, "Yes","No") -> Yes | H7: Quebec | I7: Dany Morin | J7: New Democrat
B8: Dorval—Lachine | C8: Dorval—Lachine—LaSalle | D8: =LEN(B8) -> 14 | E8: =LEN(C8) -> 22 | F8: =E8-D8 -> 8 | G8: =IF(E8>D8, "Yes","No") -> Yes | H8: Quebec | I8: Isabelle Morin | J8: New Democrat
B9: LaSalle—Verdun | C9: LaSalle—Émard—Verdun | D9: =LEN(B9) -> 14 | E9: =LEN(C9) -> 20 | F9: =E9-D9 -> 6 | G9: =IF(E9>D9, "Yes","No") -> Yes | H9: Quebec | I9: Helene Leblanc | J9: New Democrat
B10: LeMoyne | C10: Longueuil—Charles-LeMoyne | D10: =LEN(B10) -> 7 | E10: =LEN(C10) -> 25 | F10: =E10-D10 -> 18 | G10: =IF(E10>D10, "Yes","No") -> Yes | H10: Quebec | I10: Sadia Groguhe | J10: New Democrat
B11: Longueuil | C11: Longueuil—Saint-Hubert | D11: =LEN(B11) -> 9 | E11: =LEN(C11) -> 22 | F11: =E11-D11 -> 13 | G11: =IF(E11>D11, "Yes","No") -> Yes | H11: Quebec | I11: Pierre Nantel | J11: New Democrat
B12: Mont-Royal | C12: Mount Royal | D12: =LEN(B12) -> 10 | E12: =LEN(C12) -> 11 | F12: =E12-D12 -> 1 | G12: =IF(E12>D12, "Yes","No") -> Yes | H12: Quebec | I12: Irwin Cotler | J12: Liberal
B13: Sainte-Rose | C13: Marc-Aurèle-Fortin | D13: =LEN(B13) -> 11 | E13: =LEN(C13) -> 18 | F13: =E13-D13 -> 7 | G13: =IF(E13>D13, "Yes","No") -> Yes | H13: Quebec | I13: Alain Giguere | J13: New Democrat
B14: Soulanges—Vaudreuil | C14: Vaudreuil—Soulanges | D14: =LEN(B14) -> 19 | E14: =LEN(C14) -> 19 | F14: =E14-D14 -> 0 | G14: =IF(E14>D14, "Yes","No") -> No | H14: Quebec | I14: Jaime Nicholls | J14: New Democrat
... B32: Vancouver Island North—Comox—Powell River | C32: North Island—Powell River | D32: =LEN(B32) -> 41 | E32: =LEN(C32) -> 25 | F32: =E32-D32 -> -16 | G32: =IF(E32>D32, "Yes","No") -> No | H32: British Columbia | I32: John Duncan | J32: Conservative
A33: Averages | D33: =AVERAGE(D3:D32) -> 16.866667 | E33: =AVERAGE(E3:E32) -> 24.533333 | F33: =AVERAGE(F3:F32) -> 7.6666667 | H33: =COUNTA(H3:H32) -> 30 | I33: =COUNTA(I3:I32) -> 30 | J33: =COUNTA(J3:J32) -> 30
A34: Totals | B34: =COUNTA(B3:B32) -> 30 | C34: =COUNTA(C3:C32) -> 30 | G34: =COUNTIF(G3:G32, "Yes") -> 23
A35: Percentage | G35: =G34/B34 -> 0.76666667
A36: Total Conservative | J36: =COUNTIF(J3:J32, "Conservative") -> 14
A37: % Conservatives | J37: =J36/J33 -> 0.46666667
A38: Total Liberal | J38: =COUNTIF(J3:J32, "Liberal") -> 4
A39: % Liberals | J39: =J38/J33 -> 0.13333333
A40: Total New Democrats | J40: =COUNTIF(J3:J32, "New Democrat") -> 12
A41: % New Democrats | J41: =J40/J33 -> 0.4
A42: Total Quebec | H42: =COUNTIF(H3:H32, "Quebec") -> 13
A43: % Quebec | H43: =H42/H33 -> 0.43333333
A44: Total Ontario | H44: =COUNTIF(H3:H32, "Ontario") -> 10
A45: % Ontario | H45: =H44/H33 -> 0.33333333

Sheet 2010s (Province & Party)
A1: Tracking the Length of the Names of Ridings in the 2010s
A2: Averages and Totals | B2: Province | C2: MP | D2: Party
B3: Quebec | C3: Charmine Borg | D3: New Democrat
B4: Quebec | C4: Sana Hassainia | D4: New Democrat
B5: Quebec | C5: Guy Caron | D5: New Democrat
B6: Quebec | C6: Raymond Cote | D6: New Democrat
B7: Quebec | C7: Dany Morin | D7: New Democrat
B8: Quebec | C8: Helene Leblanc | D8: New Democrat
B9: Quebec | C9: Sadia Groguhe | D9: New Democrat
B10: Quebec | C10: Pierre Nantel | D10: New Democrat
B11: Quebec | C11: Irwin Cotler | D11: Liberal
B12: Quebec | C12: Alain Giguere | D12: New Democrat
B13: Quebec | C13: Jaime Nicholls | D13: New Democrat
B14: Quebec | C14: Marc Garneau | D14: Liberal
... B30: British Columbia | C30: Randall Garrison | D30: New Democrat
A31: Averages | B31: =COUNTA(B3:B30) -> 28 | C31: =COUNTA(C3:C30) -> 28 | D31: =COUNTA(D3:D30) -> 28
A32: Totals
A33: Percentage
A34: Total Conservative | D34: =COUNTIF(D3:D30, "Conservative") -> 13
A35: % Conservatives | D35: =D34/D31 -> 0.46428571
A36: Total Liberal | D36: =COUNTIF(D3:D30, "Liberal") -> 4
A37: % Liberals | D37: =D36/D31 -> 0.14285714
A38: Total New Democrats | D38: =COUNTIF(D3:D30, "New Democrat") -> 11
A39: % New Democrats | D39: =D38/D31 -> 0.39285714

Sheet 2020s 1st Reading
A1: Tracking the Length of the Names of Ridings in the 2020s
A2: Averages and Totals | B2: Names under the Representation Orders, 2023 | C2: Names Under the Riding Name Change Act, 2026 | D2: Length of Name, 2023 | E2: Length of Name, 2026 | F2: Difference | G2: Longer? | H2: Province | I2: MP | J2: Party
B3: Cape Spear | C3: Cape Spear—Mount Pearl—Paradise | D3: =LEN(B3) -> 10 | E3: =LEN(C3) -> 31 | F3: =E3-D3 -> 21 | G3: =IF(E3>D3, "Yes","No") -> Yes | H3: Newfoundland and Labrador | I3: Tom Osborne | J3: Liberal
B4: Central Newfoundland | C4: Coast of Bays—Central—Notre Dame | D4: =LEN(B4) -> 20 | E4: =LEN(C4) -> 32 | F4: =E4-D4 -> 12 | G4: =IF(E4>D4, "Yes","No") -> Yes | H4: Newfoundland and Labrador | I4: Clifford Small | J4: Conservative
B5: Terra Nova—The Peninsulas | C5: The Eastern Peninsulas | D5: =LEN(B5) -> 25 | E5: =LEN(C5) -> 22 | F5: =E5-D5 -> -3 | G5: =IF(E5>D5, "Yes","No") -> No | H5: Newfoundland and Labrador | I5: Jonathan Rowe | J5: Conservative
B6: Halifax West | C6: Halifax West—Peggy’s Cove | D6: =LEN(B6) -> 12 | E6: =LEN(C6) -> 25 | F6: =E6-D6 -> 13 | G6: =IF(E6>D6, "Yes","No") -> Yes | H6: Nova Scotia | I6: Lena Diab | J6: Liberal
B7: Saint John—St. Croix | C7: New Brunswick Southwest | D7: =LEN(B7) -> 20 | E7: =LEN(C7) -> 23 | F7: =E7-D7 -> 3 | G7: =IF(E7>D7, "Yes","No") -> Yes | H7: New Brunswick | I7: John Williamson | J7: Conservative
B8: Argenteuil—La Petite‑Nation | C8: Argenteuil—Papineau—Des Collines | D8: =LEN(B8) -> 27 | E8: =LEN(C8) -> 32 | F8: =E8-D8 -> 5 | G8: =IF(E8>D8, "Yes","No") -> Yes | H8: Quebec | I8: Stephane Lauzon | J8: Liberal
B9: Beauharnois—Salaberry—Soulanges—Huntingdon | C9: Vallée-du-Haut-Saint-Laurent | D9: =LEN(B9) -> 42 | E9: =LEN(C9) -> 28 | F9: =E9-D9 -> -14 | G9: =IF(E9>D9, "Yes","No") -> No | H9: Quebec | I9: Claude DeBellefeuille | J9: Bloc
B10: Jonquière | C10: Jonquière—Hébertville—Pays-des-Bleuets | D10: =LEN(B10) -> 9 | E10: =LEN(C10) -> 38 | F10: =E10-D10 -> 29 | G10: =IF(E10>D10, "Yes","No") -> Yes | H10: Quebec | I10: Mario Simard | J10: Bloc
B11: Longueuil—Charles-LeMoyne | C11: Longueuil—Greenfield Park | D11: =LEN(B11) -> 25 | E11: =LEN(C11) -> 25 | F11: =E11-D11 -> 0 | G11: =IF(E11>D11, "Yes","No") -> No | H11: Quebec | I11: Sherry Romanado | J11: Liberal
B12: Portneuf—Jacques-Cartier | C12: Saint-Augustin—Portneuf—Jacques-Cartier | D12: =LEN(B12) -> 24 | E12: =LEN(C12) -> 39 | F12: =E12-D12 -> 15 | G12: =IF(E12>D12, "Yes","No") -> Yes | H12: Quebec | I12: Joel Godin | J12: Conservative
B13: Richmond—Arthabaska | C13: Richmond—Arthabaska—Val-des-Sources | D13: =LEN(B13) -> 19 | E13: =LEN(C13) -> 35 | F13: =E13-D13 -> 16 | G13: =IF(E13>D13, "Yes","No") -> Yes | H13: Quebec | I13: Eric Lefebvre | J13: Conservative
B14: Rimouski—La Matapédia | C14: Rimouski-Neigette—Mitis—Matapédia—Les Basques | D14: =LEN(B14) -> 21 | E14: =LEN(C14) -> 45 | F14: =E14-D14 -> 24 | G14: =IF(E14>D14, "Yes","No") -> Yes | H14: Quebec | I14: Maxime Blanchette-Joncas | J14: Bloc
... B21: Cariboo—Prince George | C21: Cariboo—Prince George—Omineca | D21: =LEN(B21) -> 21 | E21: =LEN(C21) -> 29 | F21: =E21-D21 -> 8 | G21: =IF(E21>D21, "Yes","No") -> Yes | H21: British Columbia | I21: Bob Zimmer | J21: Conservative
A22: Averages | D22: =AVERAGE(D3:D21) -> 22.578947 | E22: =AVERAGE(E3:E21) -> 26.789474 | F22: =AVERAGE(F3:F21) -> 4.2105263
A23: Totals | B23: =COUNTA(B3:B21) -> 19 | C23: =COUNTA(C3:C21) -> 19 | G23: =COUNTIF(G3:G21, "Yes") -> 10 | I23: =COUNTA(I3:I21) -> 19 | J23: =COUNTA(J3:J21) -> 19
A24: Percentage | G24: =G23/B23 -> 0.52631579
A25: Total Conservative | J25: =COUNTIF(J3:J21, "Conservative") -> 12
A26: % Conservatives | J26: =J25/J23 -> 0.63157895
A27: Total Liberal | J27: =COUNTIF(J3:J21, "Liberal") -> 4
A28: % Liberals | J28: =J27/J23 -> 0.21052632
A29: Total Bloc | J29: =COUNTIF(J3:J21, "Bloc") -> 3
A30: % Bloc | J30: =J29/J23 -> 0.15789474

Sheet 2020s (Final) 
A1: Tracking the Length of the Names of Ridings in the 2020s
A2: Averages and Totals | B2: Names under the Representation Orders, 2023 | C2: Names Under the Riding Name Change Act, 2026 | D2: Length of Name, 2023 | E2: Length of Name, 2026 | F2: Difference | G2: Longer? | H2: Province | I2: MP | J2: Party
B3: Cape Spear | C3: Cape Spear—Mount Pearl—Paradise | D3: =LEN(B3) -> 10 | E3: =LEN(C3) -> 31 | F3: =E3-D3 -> 21 | G3: =IF(E3>D3, "Yes","No") -> Yes | H3: Newfoundland and Labrador | I3: Tom Osborne | J3: Liberal
B4: Central Newfoundland | C4: Coast of Bays—Central—Notre Dame | D4: =LEN(B4) -> 20 | E4: =LEN(C4) -> 32 | F4: =E4-D4 -> 12 | G4: =IF(E4>D4, "Yes","No") -> Yes | H4: Newfoundland and Labrador | I4: Clifford Small | J4: Conservative
B5: Terra Nova—The Peninsulas | C5: The Eastern Peninsulas | D5: =LEN(B5) -> 25 | E5: =LEN(C5) -> 22 | F5: =E5-D5 -> -3 | G5: =IF(E5>D5, "Yes","No") -> No | H5: Newfoundland and Labrador | I5: Jonathan Rowe | J5: Conservative
B6: Halifax West | C6: Halifax West—Peggy’s Cove | D6: =LEN(B6) -> 12 | E6: =LEN(C6) -> 25 | F6: =E6-D6 -> 13 | G6: =IF(E6>D6, "Yes","No") -> Yes | H6: Nova Scotia | I6: Lena Diab | J6: Liberal
B7: Saint John—St. Croix | C7: New Brunswick Southwest | D7: =LEN(B7) -> 20 | E7: =LEN(C7) -> 23 | F7: =E7-D7 -> 3 | G7: =IF(E7>D7, "Yes","No") -> Yes | H7: New Brunswick | I7: John Williamson | J7: Conservative
B8: Argenteuil—La Petite‑Nation | C8: Argenteuil—Papineau—Des Collines | D8: =LEN(B8) -> 27 | E8: =LEN(C8) -> 32 | F8: =E8-D8 -> 5 | G8: =IF(E8>D8, "Yes","No") -> Yes | H8: Quebec | I8: Stephane Lauzon | J8: Liberal
B9: Beauharnois—Salaberry—Soulanges—Huntingdon | C9: Vallée-du-Haut-Saint-Laurent | D9: =LEN(B9) -> 42 | E9: =LEN(C9) -> 28 | F9: =E9-D9 -> -14 | G9: =IF(E9>D9, "Yes","No") -> No | H9: Quebec | I9: Claude DeBellefeuille | J9: Bloc
B10: Jonquière | C10: Jonquière—Hébertville—Pays-des-Bleuets | D10: =LEN(B10) -> 9 | E10: =LEN(C10) -> 38 | F10: =E10-D10 -> 29 | G10: =IF(E10>D10, "Yes","No") -> Yes | H10: Quebec | I10: Mario Simard | J10: Bloc
B11: Longueuil—Charles-LeMoyne | C11: Longueuil—Charles-LeMoyne—Greenfield Park | D11: =LEN(B11) -> 25 | E11: =LEN(C11) -> 41 | F11: =E11-D11 -> 16 | G11: =IF(E11>D11, "Yes","No") -> Yes | H11: Quebec | I11: Sherry Romanado | J11: Liberal
B12: Portneuf—Jacques-Cartier | C12: Saint-Augustin—Portneuf—Jacques-Cartier | D12: =LEN(B12) -> 24 | E12: =LEN(C12) -> 39 | F12: =E12-D12 -> 15 | G12: =IF(E12>D12, "Yes","No") -> Yes | H12: Quebec | I12: Joel Godin | J12: Conservative
B13: Richmond—Arthabaska | C13: Richmond—Arthabaska—Des-Sources | D13: =LEN(B13) -> 19 | E13: =LEN(C13) -> 31 | F13: =E13-D13 -> 12 | G13: =IF(E13>D13, "Yes","No") -> Yes | H13: Quebec | I13: Eric Lefebvre | J13: Conservative
B14: Rimouski—La Matapédia | C14: Rimouski-Neigette—Mitis—Matapédia—Les Basques | D14: =LEN(B14) -> 21 | E14: =LEN(C14) -> 45 | F14: =E14-D14 -> 24 | G14: =IF(E14>D14, "Yes","No") -> Yes | H14: Quebec | I14: Maxime Blanchette-Joncas | J14: Bloc
... B19: Cariboo—Prince George | C19: Cariboo—Prince George—Omineca | D19: =LEN(B19) -> 21 | E19: =LEN(C19) -> 29 | F19: =E19-D19 -> 8 | G19: =IF(E19>D19, "Yes","No") -> Yes | H19: British Columbia | I19: Bob Zimmer | J19: Conservative
A20: Averages | D20: =AVERAGE(D3:D19) -> 21.411765 | E20: =AVERAGE(E3:E19) -> 28.117647 | F20: =AVERAGE(F3:F19) -> 6.7058824
A21: Totals | B21: =COUNTA(B3:B19) -> 17 | C21: =COUNTA(C3:C19) -> 17 | G21: =COUNTIF(G3:G19, "Yes") -> 11 | H21: =COUNTA(H3:H19) -> 17 | I21: =COUNTA(I3:I19) -> 17 | J21: =COUNTA(J3:J19) -> 17
A22: Percentage | G22: =G21/B21 -> 0.64705882
A23: Total Conservative | J23: =COUNTIF(J3:J19, "Conservative") -> 10
A24: % Conservatives | J24: =J23/J21 -> 0.58823529
A25: Total Liberal | J25: =COUNTIF(J3:J19, "Liberal") -> 4
A26: % Liberals | J26: =J25/J21 -> 0.23529412
A27: Total Bloc | J27: =COUNTIF(J3:J19, "Bloc") -> 3
A28: % Bloc | J28: =J27/J21 -> 0.17647059
A29: Total Quebec | H29: =COUNTIF(H3:H19, "Quebec") -> 7
A30: % Quebec | H30: =H29/H21 -> 0.41176471
A31: Total Ontario | H31: =COUNTIF(H3:H19, "Ontario") -> 3
A32: % Ontario | H32: =H31/H21 -> 0.17647059
