Workbook

Sheet All Reports
A1: Disproportionality Under the Reports of Alberta's Provincial Electoral Boundaries Commission, 2025-2026
A2: Province | B2: Percent
A3: Interim Report | B3: ='Interim Report'!I92 -> 0.025550506
A4: Final Report | B4: ='Final Report'!I92 -> 0.028941622
A5: Dissenting Report | B5: ='Dissenting Report'!I92 -> 0.042842103
A6: Average | B6: =AVERAGE(B3:B5) -> 0.032444744

Sheet Deviations in Increments of 5%
A1: How Alberta's 89 Provincial Electoral Districts Deviate from the Electoral Quotas in Increments of 5% under the Interim Report of 2025 and the Final Report of 2026
B2: Greater than – 25% | C2: – 25% to – 20 % | D2: – 20 to – 15% | E2: – 15% to – 10% | F2: – 10% to – 5% | G2: – 5% to 0 | H2: 0 to +5% | I2: .+5% to +10% | J2: .+10% to +15% | K2: .+15% to 20% | L2: .+20% to +25% | M2: Greater than +25% | N2: Totals | O2: ±5%
A3: Interim Report
A4: Number | B4: ='Interim Report'!J91 -> 1 | C4: ='Interim Report'!K91 -> 1 | D4: ='Interim Report'!L91 -> 1 | E4: ='Interim Report'!M91 -> 5 | F4: ='Interim Report'!N91 -> 5 | G4: ='Interim Report'!O91 -> 28 | H4: ='Interim Report'!P91 -> 31 | I4: ='Interim Report'!Q91 -> 12 | ... M4: ='Interim Report'!U91 -> 0 | N4: =SUM(B4:M4) -> 89 | O4: =G4+H4 -> 59
A5: Percentage | B5: =B4/$N4 -> 0.011235955 | C5: =C4/$N4 -> 0.011235955 | D5: =D4/$N4 -> 0.011235955 | E5: =E4/$N4 -> 0.056179775 | F5: =F4/$N4 -> 0.056179775 | G5: =G4/$N4 -> 0.31460674 | H5: =H4/$N4 -> 0.34831461 | I5: =I4/$N4 -> 0.13483146 | ... M5: =M4/$N4 -> 0 | O5: =G5+H5 -> 0.66292135
A6: Final Report
A7: Number | B7: ='Final Report'!J91 -> 3 | C7: ='Final Report'!K91 -> 1 | D7: ='Final Report'!L91 -> 0 | E7: ='Final Report'!M91 -> 1 | F7: ='Final Report'!N91 -> 8 | G7: ='Final Report'!O91 -> 20 | H7: ='Final Report'!P91 -> 35 | I7: ='Final Report'!Q91 -> 16 | ... M7: ='Final Report'!U91 -> 0 | N7: =SUM(B7:M7) -> 89 | O7: =G7+H7 -> 55
A8: Percentage | B8: =B7/$N7 -> 0.033707865 | C8: =C7/$N7 -> 0.011235955 | D8: =D7/$N7 -> 0 | E8: =E7/$N7 -> 0.011235955 | F8: =F7/$N7 -> 0.08988764 | G8: =G7/$N7 -> 0.2247191 | H8: =H7/$N7 -> 0.39325843 | I8: =I7/$N7 -> 0.17977528 | ... M8: =M7/$N7 -> 0 | O8: =G8+H8 -> 0.61797753
A9: Dissenting Report
A10: Number | B10: ='Dissenting Report'!J91 -> 3 | C10: ='Dissenting Report'!K91 -> 1 | D10: ='Dissenting Report'!L91 -> 1 | E10: ='Dissenting Report'!M91 -> 9 | F10: ='Dissenting Report'!N91 -> 9 | G10: ='Dissenting Report'!O91 -> 16 | H10: ='Dissenting Report'!P91 -> 21 | I10: ='Dissenting Report'!Q91 -> 14 | ... M10: ='Dissenting Report'!U91 -> 0 | N10: =SUM(B10:M10) -> 89 | O10: =G10+H10 -> 37
A11: Percentage | B11: =B10/$N10 -> 0.033707865 | C11: =C10/$N10 -> 0.011235955 | D11: =D10/$N10 -> 0.011235955 | E11: =E10/$N10 -> 0.1011236 | F11: =F10/$N10 -> 0.1011236 | G11: =G10/$N10 -> 0.17977528 | H11: =H10/$N10 -> 0.23595506 | I11: =I10/$N10 -> 0.15730337 | ... M11: =M10/$N10 -> 0 | O11: =G11+H11 -> 0.41573034

Sheet Interim Report
A1: Electoral District | B1: Estimated Population (2024) | C1: Variance from Electoral Quota | D1: Absolute Variance | E1: Number of MPs | F1: Percent of Population | G1: Percent of MPs | H1: Difference | I1: Absolute Value | J1: Greater than – 25% | K1: – 25% to – 20 % | L1: – 20 to – 15% | M1: – 15% to – 10% | N1: – 10% to – 5% | O1: – 5% to 0 | P1: 0 to +5% | Q1: .+5% to +10% | R1: .+10% to +15% | S1: .+15% to 20% | T1: .+20% to +25% | U1: Greater than +25%
A2: Edmonton-Highlands-Norwood | B2: 49995 | C2: =(B2-C$91)/C$91 -> -0.089832866 | D2: =ABS(C2) -> 0.089832866 | E2: 1 | F2: =B2/B$91 -> 0.010226597 | G2: =E2/E$91 -> 0.011235955 | H2: =F2-G2 -> -0.001009358 | I2: =ABS(H2) -> 0.001009358 | J2: =IF(C2<-0.25, "Yes","No") -> No | K2: =IF(AND(C2>-0.25,C2<-0.2),"Yes", "No") -> No | L2: =IF(AND(C2>-0.2,C2<-0.15),"Yes", "No") -> No | M2: =IF(AND(C2>-0.15,C2<-0.1),"Yes", "No") -> No | N2: =IF(AND(C2>-0.1,C2<-0.05),"Yes", "No") -> Yes | O2: =IF(AND(C2>-0.05,C2<0),"Yes", "No") -> No | P2: =IF(AND(C2>0, C2<0.05),"Yes", "No") -> No | Q2: =IF(AND(C2>0.05, C2<0.1),"Yes", "No") -> No | R2: =IF(AND(C2>0.1, C2<0.15),"Yes", "No") -> No | S2: =IF(AND(C2>0.15, C2<0.2),"Yes", "No") -> No | T2: =IF(AND(C2>0.2, C2<0.25),"Yes", "No") -> No | U2: =IF(C2>0.25, "Yes","No") -> No
A3: Edmonton-South East | B3: 52888 | C3: =(B3-C$91)/C$91 -> -0.037165329 | D3: =ABS(C3) -> 0.037165329 | E3: 1 | F3: =B3/B$91 -> 0.010818367 | G3: =E3/E$91 -> 0.011235955 | H3: =F3-G3 -> -0.00041758797 | I3: =ABS(H3) -> 0.00041758797 | J3: =IF(C3<-0.25, "Yes","No") -> No | K3: =IF(AND(C3>-0.25,C3<-0.2),"Yes", "No") -> No | L3: =IF(AND(C3>-0.2,C3<-0.15),"Yes", "No") -> No | M3: =IF(AND(C3>-0.15,C3<-0.1),"Yes", "No") -> No | N3: =IF(AND(C3>-0.1,C3<-0.05),"Yes", "No") -> No | O3: =IF(AND(C3>-0.05,C3<0),"Yes", "No") -> Yes | P3: =IF(AND(C3>0, C3<0.05),"Yes", "No") -> No | Q3: =IF(AND(C3>0.05, C3<0.1),"Yes", "No") -> No | R3: =IF(AND(C3>0.1, C3<0.15),"Yes", "No") -> No | S3: =IF(AND(C3>0.15, C3<0.2),"Yes", "No") -> No | T3: =IF(AND(C3>0.2, C3<0.25),"Yes", "No") -> No | U3: =IF(C3>0.25, "Yes","No") -> No
A4: Edmonton-Meadows | B4: 53318 | C4: =(B4-C$91)/C$91 -> -0.029337109 | D4: =ABS(C4) -> 0.029337109 | E4: 1 | F4: =B4/B$91 -> 0.010906325 | G4: =E4/E$91 -> 0.011235955 | H4: =F4-G4 -> -0.00032963044 | I4: =ABS(H4) -> 0.00032963044 | J4: =IF(C4<-0.25, "Yes","No") -> No | K4: =IF(AND(C4>-0.25,C4<-0.2),"Yes", "No") -> No | L4: =IF(AND(C4>-0.2,C4<-0.15),"Yes", "No") -> No | M4: =IF(AND(C4>-0.15,C4<-0.1),"Yes", "No") -> No | N4: =IF(AND(C4>-0.1,C4<-0.05),"Yes", "No") -> No | O4: =IF(AND(C4>-0.05,C4<0),"Yes", "No") -> Yes | P4: =IF(AND(C4>0, C4<0.05),"Yes", "No") -> No | Q4: =IF(AND(C4>0.05, C4<0.1),"Yes", "No") -> No | R4: =IF(AND(C4>0.1, C4<0.15),"Yes", "No") -> No | S4: =IF(AND(C4>0.15, C4<0.2),"Yes", "No") -> No | T4: =IF(AND(C4>0.2, C4<0.25),"Yes", "No") -> No | U4: =IF(C4>0.25, "Yes","No") -> No
A5: Edmonton-Ellerslie | B5: 53376 | C5: =(B5-C$91)/C$91 -> -0.02828121 | D5: =ABS(C5) -> 0.02828121 | E5: 1 | F5: =B5/B$91 -> 0.010918189 | G5: =E5/E$91 -> 0.011235955 | H5: =F5-G5 -> -0.0003177664 | I5: =ABS(H5) -> 0.0003177664 | J5: =IF(C5<-0.25, "Yes","No") -> No | K5: =IF(AND(C5>-0.25,C5<-0.2),"Yes", "No") -> No | L5: =IF(AND(C5>-0.2,C5<-0.15),"Yes", "No") -> No | M5: =IF(AND(C5>-0.15,C5<-0.1),"Yes", "No") -> No | N5: =IF(AND(C5>-0.1,C5<-0.05),"Yes", "No") -> No | O5: =IF(AND(C5>-0.05,C5<0),"Yes", "No") -> Yes | P5: =IF(AND(C5>0, C5<0.05),"Yes", "No") -> No | Q5: =IF(AND(C5>0.05, C5<0.1),"Yes", "No") -> No | R5: =IF(AND(C5>0.1, C5<0.15),"Yes", "No") -> No | S5: =IF(AND(C5>0.15, C5<0.2),"Yes", "No") -> No | T5: =IF(AND(C5>0.2, C5<0.25),"Yes", "No") -> No | U5: =IF(C5>0.25, "Yes","No") -> No
A6: Edmonton-City Centre | B6: 54041 | C6: =(B6-C$91)/C$91 -> -0.016174776 | D6: =ABS(C6) -> 0.016174776 | E6: 1 | F6: =B6/B$91 -> 0.011054216 | G6: =E6/E$91 -> 0.011235955 | H6: =F6-G6 -> -0.00018173906 | I6: =ABS(H6) -> 0.00018173906 | J6: =IF(C6<-0.25, "Yes","No") -> No | K6: =IF(AND(C6>-0.25,C6<-0.2),"Yes", "No") -> No | L6: =IF(AND(C6>-0.2,C6<-0.15),"Yes", "No") -> No | M6: =IF(AND(C6>-0.15,C6<-0.1),"Yes", "No") -> No | N6: =IF(AND(C6>-0.1,C6<-0.05),"Yes", "No") -> No | O6: =IF(AND(C6>-0.05,C6<0),"Yes", "No") -> Yes | P6: =IF(AND(C6>0, C6<0.05),"Yes", "No") -> No | Q6: =IF(AND(C6>0.05, C6<0.1),"Yes", "No") -> No | R6: =IF(AND(C6>0.1, C6<0.15),"Yes", "No") -> No | S6: =IF(AND(C6>0.15, C6<0.2),"Yes", "No") -> No | T6: =IF(AND(C6>0.2, C6<0.25),"Yes", "No") -> No | U6: =IF(C6>0.25, "Yes","No") -> No
A7: Edmonton-Strathcona | B7: 54093 | C7: =(B7-C$91)/C$91 -> -0.015228108 | D7: =ABS(C7) -> 0.015228108 | E7: 1 | F7: =B7/B$91 -> 0.011064853 | G7: =E7/E$91 -> 0.011235955 | H7: =F7-G7 -> -0.00017110233 | I7: =ABS(H7) -> 0.00017110233 | J7: =IF(C7<-0.25, "Yes","No") -> No | K7: =IF(AND(C7>-0.25,C7<-0.2),"Yes", "No") -> No | L7: =IF(AND(C7>-0.2,C7<-0.15),"Yes", "No") -> No | M7: =IF(AND(C7>-0.15,C7<-0.1),"Yes", "No") -> No | N7: =IF(AND(C7>-0.1,C7<-0.05),"Yes", "No") -> No | O7: =IF(AND(C7>-0.05,C7<0),"Yes", "No") -> Yes | P7: =IF(AND(C7>0, C7<0.05),"Yes", "No") -> No | Q7: =IF(AND(C7>0.05, C7<0.1),"Yes", "No") -> No | R7: =IF(AND(C7>0.1, C7<0.15),"Yes", "No") -> No | S7: =IF(AND(C7>0.15, C7<0.2),"Yes", "No") -> No | T7: =IF(AND(C7>0.2, C7<0.25),"Yes", "No") -> No | U7: =IF(C7>0.25, "Yes","No") -> No
A8: Edmonton-South West | B8: 54136 | C8: =(B8-C$91)/C$91 -> -0.014445286 | D8: =ABS(C8) -> 0.014445286 | E8: 1 | F8: =B8/B$91 -> 0.011073648 | G8: =E8/E$91 -> 0.011235955 | H8: =F8-G8 -> -0.00016230658 | I8: =ABS(H8) -> 0.00016230658 | J8: =IF(C8<-0.25, "Yes","No") -> No | K8: =IF(AND(C8>-0.25,C8<-0.2),"Yes", "No") -> No | L8: =IF(AND(C8>-0.2,C8<-0.15),"Yes", "No") -> No | M8: =IF(AND(C8>-0.15,C8<-0.1),"Yes", "No") -> No | N8: =IF(AND(C8>-0.1,C8<-0.05),"Yes", "No") -> No | O8: =IF(AND(C8>-0.05,C8<0),"Yes", "No") -> Yes | P8: =IF(AND(C8>0, C8<0.05),"Yes", "No") -> No | Q8: =IF(AND(C8>0.05, C8<0.1),"Yes", "No") -> No | R8: =IF(AND(C8>0.1, C8<0.15),"Yes", "No") -> No | S8: =IF(AND(C8>0.15, C8<0.2),"Yes", "No") -> No | T8: =IF(AND(C8>0.2, C8<0.25),"Yes", "No") -> No | U8: =IF(C8>0.25, "Yes","No") -> No
A9: Edmonton-Beverly-Clareview | B9: 54440 | C9: =(B9-C$91)/C$91 -> -0.008910916 | D9: =ABS(C9) -> 0.008910916 | E9: 1 | F9: =B9/B$91 -> 0.011135832 | G9: =E9/E$91 -> 0.011235955 | H9: =F9-G9 -> -0.00010012265 | I9: =ABS(H9) -> 0.00010012265 | J9: =IF(C9<-0.25, "Yes","No") -> No | K9: =IF(AND(C9>-0.25,C9<-0.2),"Yes", "No") -> No | L9: =IF(AND(C9>-0.2,C9<-0.15),"Yes", "No") -> No | M9: =IF(AND(C9>-0.15,C9<-0.1),"Yes", "No") -> No | N9: =IF(AND(C9>-0.1,C9<-0.05),"Yes", "No") -> No | O9: =IF(AND(C9>-0.05,C9<0),"Yes", "No") -> Yes | P9: =IF(AND(C9>0, C9<0.05),"Yes", "No") -> No | Q9: =IF(AND(C9>0.05, C9<0.1),"Yes", "No") -> No | R9: =IF(AND(C9>0.1, C9<0.15),"Yes", "No") -> No | S9: =IF(AND(C9>0.15, C9<0.2),"Yes", "No") -> No | T9: =IF(AND(C9>0.2, C9<0.25),"Yes", "No") -> No | U9: =IF(C9>0.25, "Yes","No") -> No
A10: Edmonton-Gold Bar | B10: 54981 | C10: =(B10-C$91)/C$91 -> 0.00093807729 | D10: =ABS(C10) -> 0.00093807729 | E10: 1 | F10: =B10/B$91 -> 0.011246495 | G10: =E10/E$91 -> 0.011235955 | H10: =F10-G10 -> 1.0540194e-05 | I10: =ABS(H10) -> 1.0540194e-05 | J10: =IF(C10<-0.25, "Yes","No") -> No | K10: =IF(AND(C10>-0.25,C10<-0.2),"Yes", "No") -> No | L10: =IF(AND(C10>-0.2,C10<-0.15),"Yes", "No") -> No | M10: =IF(AND(C10>-0.15,C10<-0.1),"Yes", "No") -> No | N10: =IF(AND(C10>-0.1,C10<-0.05),"Yes", "No") -> No | O10: =IF(AND(C10>-0.05,C10<0),"Yes", "No") -> No | P10: =IF(AND(C10>0, C10<0.05),"Yes", "No") -> Yes | Q10: =IF(AND(C10>0.05, C10<0.1),"Yes", "No") -> No | R10: =IF(AND(C10>0.1, C10<0.15),"Yes", "No") -> No | S10: =IF(AND(C10>0.15, C10<0.2),"Yes", "No") -> No | T10: =IF(AND(C10>0.2, C10<0.25),"Yes", "No") -> No | U10: =IF(C10>0.25, "Yes","No") -> No
A11: Edmonton-Whitemud | B11: 56752 | C11: =(B11-C$91)/C$91 -> 0.033179421 | D11: =ABS(C11) -> 0.033179421 | E11: 1 | F11: =B11/B$91 -> 0.011608758 | G11: =E11/E$91 -> 0.011235955 | H11: =F11-G11 -> 0.00037280249 | I11: =ABS(H11) -> 0.00037280249 | J11: =IF(C11<-0.25, "Yes","No") -> No | K11: =IF(AND(C11>-0.25,C11<-0.2),"Yes", "No") -> No | L11: =IF(AND(C11>-0.2,C11<-0.15),"Yes", "No") -> No | M11: =IF(AND(C11>-0.15,C11<-0.1),"Yes", "No") -> No | N11: =IF(AND(C11>-0.1,C11<-0.05),"Yes", "No") -> No | O11: =IF(AND(C11>-0.05,C11<0),"Yes", "No") -> No | P11: =IF(AND(C11>0, C11<0.05),"Yes", "No") -> Yes | Q11: =IF(AND(C11>0.05, C11<0.1),"Yes", "No") -> No | R11: =IF(AND(C11>0.1, C11<0.15),"Yes", "No") -> No | S11: =IF(AND(C11>0.15, C11<0.2),"Yes", "No") -> No | T11: =IF(AND(C11>0.2, C11<0.25),"Yes", "No") -> No | U11: =IF(C11>0.25, "Yes","No") -> No
A12: Edmonton-West-Enoch | B12: 56894 | C12: =(B12-C$91)/C$91 -> 0.035764554 | D12: =ABS(C12) -> 0.035764554 | E12: 1 | F12: =B12/B$91 -> 0.011637804 | G12: =E12/E$91 -> 0.011235955 | H12: =F12-G12 -> 0.00040184893 | I12: =ABS(H12) -> 0.00040184893 | J12: =IF(C12<-0.25, "Yes","No") -> No | K12: =IF(AND(C12>-0.25,C12<-0.2),"Yes", "No") -> No | L12: =IF(AND(C12>-0.2,C12<-0.15),"Yes", "No") -> No | M12: =IF(AND(C12>-0.15,C12<-0.1),"Yes", "No") -> No | N12: =IF(AND(C12>-0.1,C12<-0.05),"Yes", "No") -> No | O12: =IF(AND(C12>-0.05,C12<0),"Yes", "No") -> No | P12: =IF(AND(C12>0, C12<0.05),"Yes", "No") -> Yes | Q12: =IF(AND(C12>0.05, C12<0.1),"Yes", "No") -> No | R12: =IF(AND(C12>0.1, C12<0.15),"Yes", "No") -> No | S12: =IF(AND(C12>0.15, C12<0.2),"Yes", "No") -> No | T12: =IF(AND(C12>0.2, C12<0.25),"Yes", "No") -> No | U12: =IF(C12>0.25, "Yes","No") -> No
A13: Edmonton-South | B13: 57522 | C13: =(B13-C$91)/C$91 -> 0.047197397 | D13: =ABS(C13) -> 0.047197397 | E13: 1 | F13: =B13/B$91 -> 0.011766263 | G13: =E13/E$91 -> 0.011235955 | H13: =F13-G13 -> 0.00053030783 | I13: =ABS(H13) -> 0.00053030783 | J13: =IF(C13<-0.25, "Yes","No") -> No | K13: =IF(AND(C13>-0.25,C13<-0.2),"Yes", "No") -> No | L13: =IF(AND(C13>-0.2,C13<-0.15),"Yes", "No") -> No | M13: =IF(AND(C13>-0.15,C13<-0.1),"Yes", "No") -> No | N13: =IF(AND(C13>-0.1,C13<-0.05),"Yes", "No") -> No | O13: =IF(AND(C13>-0.05,C13<0),"Yes", "No") -> No | P13: =IF(AND(C13>0, C13<0.05),"Yes", "No") -> Yes | Q13: =IF(AND(C13>0.05, C13<0.1),"Yes", "No") -> No | R13: =IF(AND(C13>0.1, C13<0.15),"Yes", "No") -> No | S13: =IF(AND(C13>0.15, C13<0.2),"Yes", "No") -> No | T13: =IF(AND(C13>0.2, C13<0.25),"Yes", "No") -> No | U13: =IF(C13>0.25, "Yes","No") -> No
... A90: Grande Prairie-Wapiti | B90: 56276 | C90: =(B90-C$91)/C$91 -> 0.024513764 | D90: =ABS(C90) -> 0.024513764 | E90: 1 | F90: =B90/B$91 -> 0.011511391 | G90: =E90/E$91 -> 0.011235955 | H90: =F90-G90 -> 0.00027543555 | I90: =ABS(H90) -> 0.00027543555 | J90: =IF(C90<-0.25, "Yes","No") -> No | K90: =IF(AND(C90>-0.25,C90<-0.2),"Yes", "No") -> No | L90: =IF(AND(C90>-0.2,C90<-0.15),"Yes", "No") -> No | M90: =IF(AND(C90>-0.15,C90<-0.1),"Yes", "No") -> No | N90: =IF(AND(C90>-0.1,C90<-0.05),"Yes", "No") -> No | O90: =IF(AND(C90>-0.05,C90<0),"Yes", "No") -> No | P90: =IF(AND(C90>0, C90<0.05),"Yes", "No") -> Yes | Q90: =IF(AND(C90>0.05, C90<0.1),"Yes", "No") -> No | R90: =IF(AND(C90>0.1, C90<0.15),"Yes", "No") -> No | S90: =IF(AND(C90>0.15, C90<0.2),"Yes", "No") -> No | T90: =IF(AND(C90>0.2, C90<0.25),"Yes", "No") -> No | U90: =IF(C90>0.25, "Yes","No") -> No
A91: Total or Average | B91: =SUM(B2:B90) -> 4888723 | C91: =B91/E91 -> 54929.472 | D91: =AVERAGE(D2:D90) -> 0.051101013 | E91: =SUM(E2:E90) -> 89 | F91: =SUM(F2:F90) -> 1 | G91: =SUM(G2:G90) -> 1 | I91: =SUM(I2:I90) -> 0.051101013 | J91: =COUNTIF(J2:J90, "Yes") -> 1 | K91: =COUNTIF(K2:K90, "Yes") -> 1 | L91: =COUNTIF(L2:L90, "Yes") -> 1 | M91: =COUNTIF(M2:M90, "Yes") -> 5 | N91: =COUNTIF(N2:N90, "Yes") -> 5 | O91: =COUNTIF(O2:O90, "Yes") -> 28 | P91: =COUNTIF(P2:P90, "Yes") -> 31 | Q91: =COUNTIF(Q2:Q90, "Yes") -> 12 | ... U91: =COUNTIF(U2:U90, "Yes") -> 0
A92: Loosemore-Hanby Index | I92: =I91/2 -> 0.025550506 | U92: =SUM(J91+K91+L91+M91+N91+O91+P91+Q91+R91+S91+T91+U91) -> 89
A93: Loosemore-Hanby Index (Percent) | I93: =I92 -> 0.025550506

Sheet Final Report
A1: Electoral District | B1: Estimated Population (2024) | C1: Variance from Electoral Quota | D1: Absolute Variance | E1: Number of MPs | F1: Percent of Population | G1: Percent of MPs | H1: Difference | I1: Absolute Value | J1: Greater than – 25% | K1: – 25% to – 20 % | L1: – 20 to – 15% | M1: – 15% to – 10% | N1: – 10% to – 5% | O1: – 5% to 0 | P1: 0 to +5% | Q1: .+5% to +10% | R1: .+10% to +15% | S1: .+15% to 20% | T1: .+20% to +25% | U1: Greater than +25%
A2: Calgary-Acadia | B2: 55791 | C2: =(B2-C$91)/C$91 -> 0.015684259 | D2: =ABS(C2) -> 0.015684259 | E2: 1 | F2: =B2/B$91 -> 0.011412183 | G2: =E2/E$91 -> 0.011235955 | H2: =F2-G2 -> 0.00017622763 | I2: =ABS(H2) -> 0.00017622763 | J2: =IF(C2<-0.25, "Yes","No") -> No | K2: =IF(AND(C2>-0.25,C2<-0.2),"Yes", "No") -> No | L2: =IF(AND(C2>-0.2,C2<-0.15),"Yes", "No") -> No | M2: =IF(AND(C2>-0.15,C2<-0.1),"Yes", "No") -> No | N2: =IF(AND(C2>-0.1,C2<-0.05),"Yes", "No") -> No | O2: =IF(AND(C2>-0.05,C2<0),"Yes", "No") -> No | P2: =IF(AND(C2>0, C2<0.05),"Yes", "No") -> Yes | Q2: =IF(AND(C2>0.05, C2<0.1),"Yes", "No") -> No | R2: =IF(AND(C2>0.1, C2<0.15),"Yes", "No") -> No | S2: =IF(AND(C2>0.15, C2<0.2),"Yes", "No") -> No | T2: =IF(AND(C2>0.2, C2<0.25),"Yes", "No") -> No | U2: =IF(C2>0.25, "Yes","No") -> No
A3: Calgary-Beddington | B3: 56024 | C3: =(B3-C$91)/C$91 -> 0.019926062 | D3: =ABS(C3) -> 0.019926062 | E3: 1 | F3: =B3/B$91 -> 0.011459843 | G3: =E3/E$91 -> 0.011235955 | H3: =F3-G3 -> 0.00022388834 | I3: =ABS(H3) -> 0.00022388834 | J3: =IF(C3<-0.25, "Yes","No") -> No | K3: =IF(AND(C3>-0.25,C3<-0.2),"Yes", "No") -> No | L3: =IF(AND(C3>-0.2,C3<-0.15),"Yes", "No") -> No | M3: =IF(AND(C3>-0.15,C3<-0.1),"Yes", "No") -> No | N3: =IF(AND(C3>-0.1,C3<-0.05),"Yes", "No") -> No | O3: =IF(AND(C3>-0.05,C3<0),"Yes", "No") -> No | P3: =IF(AND(C3>0, C3<0.05),"Yes", "No") -> Yes | Q3: =IF(AND(C3>0.05, C3<0.1),"Yes", "No") -> No | R3: =IF(AND(C3>0.1, C3<0.15),"Yes", "No") -> No | S3: =IF(AND(C3>0.15, C3<0.2),"Yes", "No") -> No | T3: =IF(AND(C3>0.2, C3<0.25),"Yes", "No") -> No | U3: =IF(C3>0.25, "Yes","No") -> No
A4: Calgary-Bhullar-McCall | B4: 55887 | C4: =(B4-C$91)/C$91 -> 0.017431955 | D4: =ABS(C4) -> 0.017431955 | E4: 1 | F4: =B4/B$91 -> 0.01143182 | G4: =E4/E$91 -> 0.011235955 | H4: =F4-G4 -> 0.00019586466 | I4: =ABS(H4) -> 0.00019586466 | J4: =IF(C4<-0.25, "Yes","No") -> No | K4: =IF(AND(C4>-0.25,C4<-0.2),"Yes", "No") -> No | L4: =IF(AND(C4>-0.2,C4<-0.15),"Yes", "No") -> No | M4: =IF(AND(C4>-0.15,C4<-0.1),"Yes", "No") -> No | N4: =IF(AND(C4>-0.1,C4<-0.05),"Yes", "No") -> No | O4: =IF(AND(C4>-0.05,C4<0),"Yes", "No") -> No | P4: =IF(AND(C4>0, C4<0.05),"Yes", "No") -> Yes | Q4: =IF(AND(C4>0.05, C4<0.1),"Yes", "No") -> No | R4: =IF(AND(C4>0.1, C4<0.15),"Yes", "No") -> No | S4: =IF(AND(C4>0.15, C4<0.2),"Yes", "No") -> No | T4: =IF(AND(C4>0.2, C4<0.25),"Yes", "No") -> No | U4: =IF(C4>0.25, "Yes","No") -> No
A5: Calgary-Bow | B5: 54981 | C5: =(B5-C$91)/C$91 -> 0.00093807729 | D5: =ABS(C5) -> 0.00093807729 | E5: 1 | F5: =B5/B$91 -> 0.011246495 | G5: =E5/E$91 -> 0.011235955 | H5: =F5-G5 -> 1.0540194e-05 | I5: =ABS(H5) -> 1.0540194e-05 | J5: =IF(C5<-0.25, "Yes","No") -> No | K5: =IF(AND(C5>-0.25,C5<-0.2),"Yes", "No") -> No | L5: =IF(AND(C5>-0.2,C5<-0.15),"Yes", "No") -> No | M5: =IF(AND(C5>-0.15,C5<-0.1),"Yes", "No") -> No | N5: =IF(AND(C5>-0.1,C5<-0.05),"Yes", "No") -> No | O5: =IF(AND(C5>-0.05,C5<0),"Yes", "No") -> No | P5: =IF(AND(C5>0, C5<0.05),"Yes", "No") -> Yes | Q5: =IF(AND(C5>0.05, C5<0.1),"Yes", "No") -> No | R5: =IF(AND(C5>0.1, C5<0.15),"Yes", "No") -> No | S5: =IF(AND(C5>0.15, C5<0.2),"Yes", "No") -> No | T5: =IF(AND(C5>0.2, C5<0.25),"Yes", "No") -> No | U5: =IF(C5>0.25, "Yes","No") -> No
A6: Calgary-Buffalo | B6: 58777 | C6: =(B6-C$91)/C$91 -> 0.070044877 | D6: =ABS(C6) -> 0.070044877 | E6: 1 | F6: =B6/B$91 -> 0.012022976 | G6: =E6/E$91 -> 0.011235955 | H6: =F6-G6 -> 0.00078702109 | I6: =ABS(H6) -> 0.00078702109 | J6: =IF(C6<-0.25, "Yes","No") -> No | K6: =IF(AND(C6>-0.25,C6<-0.2),"Yes", "No") -> No | L6: =IF(AND(C6>-0.2,C6<-0.15),"Yes", "No") -> No | M6: =IF(AND(C6>-0.15,C6<-0.1),"Yes", "No") -> No | N6: =IF(AND(C6>-0.1,C6<-0.05),"Yes", "No") -> No | O6: =IF(AND(C6>-0.05,C6<0),"Yes", "No") -> No | P6: =IF(AND(C6>0, C6<0.05),"Yes", "No") -> No | Q6: =IF(AND(C6>0.05, C6<0.1),"Yes", "No") -> Yes | R6: =IF(AND(C6>0.1, C6<0.15),"Yes", "No") -> No | S6: =IF(AND(C6>0.15, C6<0.2),"Yes", "No") -> No | T6: =IF(AND(C6>0.2, C6<0.25),"Yes", "No") -> No | U6: =IF(C6>0.25, "Yes","No") -> No
A7: Calgary-Confluence | B7: 58632 | C7: =(B7-C$91)/C$91 -> 0.067405128 | D7: =ABS(C7) -> 0.067405128 | E7: 1 | F7: =B7/B$91 -> 0.011993316 | G7: =E7/E$91 -> 0.011235955 | H7: =F7-G7 -> 0.00075736099 | I7: =ABS(H7) -> 0.00075736099 | J7: =IF(C7<-0.25, "Yes","No") -> No | K7: =IF(AND(C7>-0.25,C7<-0.2),"Yes", "No") -> No | L7: =IF(AND(C7>-0.2,C7<-0.15),"Yes", "No") -> No | M7: =IF(AND(C7>-0.15,C7<-0.1),"Yes", "No") -> No | N7: =IF(AND(C7>-0.1,C7<-0.05),"Yes", "No") -> No | O7: =IF(AND(C7>-0.05,C7<0),"Yes", "No") -> No | P7: =IF(AND(C7>0, C7<0.05),"Yes", "No") -> No | Q7: =IF(AND(C7>0.05, C7<0.1),"Yes", "No") -> Yes | R7: =IF(AND(C7>0.1, C7<0.15),"Yes", "No") -> No | S7: =IF(AND(C7>0.15, C7<0.2),"Yes", "No") -> No | T7: =IF(AND(C7>0.2, C7<0.25),"Yes", "No") -> No | U7: =IF(C7>0.25, "Yes","No") -> No
A8: Calgary-Cross | B8: 59491 | C8: =(B8-C$91)/C$91 -> 0.083043363 | D8: =ABS(C8) -> 0.083043363 | E8: 1 | F8: =B8/B$91 -> 0.012169027 | G8: =E8/E$91 -> 0.011235955 | H8: =F8-G8 -> 0.0009330715 | I8: =ABS(H8) -> 0.0009330715 | J8: =IF(C8<-0.25, "Yes","No") -> No | K8: =IF(AND(C8>-0.25,C8<-0.2),"Yes", "No") -> No | L8: =IF(AND(C8>-0.2,C8<-0.15),"Yes", "No") -> No | M8: =IF(AND(C8>-0.15,C8<-0.1),"Yes", "No") -> No | N8: =IF(AND(C8>-0.1,C8<-0.05),"Yes", "No") -> No | O8: =IF(AND(C8>-0.05,C8<0),"Yes", "No") -> No | P8: =IF(AND(C8>0, C8<0.05),"Yes", "No") -> No | Q8: =IF(AND(C8>0.05, C8<0.1),"Yes", "No") -> Yes | R8: =IF(AND(C8>0.1, C8<0.15),"Yes", "No") -> No | S8: =IF(AND(C8>0.15, C8<0.2),"Yes", "No") -> No | T8: =IF(AND(C8>0.2, C8<0.25),"Yes", "No") -> No | U8: =IF(C8>0.25, "Yes","No") -> No
A9: Calgary-Currie | B9: 58111 | C9: =(B9-C$91)/C$91 -> 0.057920238 | D9: =ABS(C9) -> 0.057920238 | E9: 1 | F9: =B9/B$91 -> 0.011886744 | G9: =E9/E$91 -> 0.011235955 | H9: =F9-G9 -> 0.00065078919 | I9: =ABS(H9) -> 0.00065078919 | J9: =IF(C9<-0.25, "Yes","No") -> No | K9: =IF(AND(C9>-0.25,C9<-0.2),"Yes", "No") -> No | L9: =IF(AND(C9>-0.2,C9<-0.15),"Yes", "No") -> No | M9: =IF(AND(C9>-0.15,C9<-0.1),"Yes", "No") -> No | N9: =IF(AND(C9>-0.1,C9<-0.05),"Yes", "No") -> No | O9: =IF(AND(C9>-0.05,C9<0),"Yes", "No") -> No | P9: =IF(AND(C9>0, C9<0.05),"Yes", "No") -> No | Q9: =IF(AND(C9>0.05, C9<0.1),"Yes", "No") -> Yes | R9: =IF(AND(C9>0.1, C9<0.15),"Yes", "No") -> No | S9: =IF(AND(C9>0.15, C9<0.2),"Yes", "No") -> No | T9: =IF(AND(C9>0.2, C9<0.25),"Yes", "No") -> No | U9: =IF(C9>0.25, "Yes","No") -> No
A10: Calgary-East | B10: 58308 | C10: =(B10-C$91)/C$91 -> 0.061506655 | D10: =ABS(C10) -> 0.061506655 | E10: 1 | F10: =B10/B$91 -> 0.011927041 | G10: =E10/E$91 -> 0.011235955 | H10: =F10-G10 -> 0.00069108601 | I10: =ABS(H10) -> 0.00069108601 | J10: =IF(C10<-0.25, "Yes","No") -> No | K10: =IF(AND(C10>-0.25,C10<-0.2),"Yes", "No") -> No | L10: =IF(AND(C10>-0.2,C10<-0.15),"Yes", "No") -> No | M10: =IF(AND(C10>-0.15,C10<-0.1),"Yes", "No") -> No | N10: =IF(AND(C10>-0.1,C10<-0.05),"Yes", "No") -> No | O10: =IF(AND(C10>-0.05,C10<0),"Yes", "No") -> No | P10: =IF(AND(C10>0, C10<0.05),"Yes", "No") -> No | Q10: =IF(AND(C10>0.05, C10<0.1),"Yes", "No") -> Yes | R10: =IF(AND(C10>0.1, C10<0.15),"Yes", "No") -> No | S10: =IF(AND(C10>0.15, C10<0.2),"Yes", "No") -> No | T10: =IF(AND(C10>0.2, C10<0.25),"Yes", "No") -> No | U10: =IF(C10>0.25, "Yes","No") -> No
A11: Calgary-Edgemont | B11: 55141 | C11: =(B11-C$91)/C$91 -> 0.0038509034 | D11: =ABS(C11) -> 0.0038509034 | E11: 1 | F11: =B11/B$91 -> 0.011279224 | G11: =E11/E$91 -> 0.011235955 | H11: =F11-G11 -> 4.3268577e-05 | I11: =ABS(H11) -> 4.3268577e-05 | J11: =IF(C11<-0.25, "Yes","No") -> No | K11: =IF(AND(C11>-0.25,C11<-0.2),"Yes", "No") -> No | L11: =IF(AND(C11>-0.2,C11<-0.15),"Yes", "No") -> No | M11: =IF(AND(C11>-0.15,C11<-0.1),"Yes", "No") -> No | N11: =IF(AND(C11>-0.1,C11<-0.05),"Yes", "No") -> No | O11: =IF(AND(C11>-0.05,C11<0),"Yes", "No") -> No | P11: =IF(AND(C11>0, C11<0.05),"Yes", "No") -> Yes | Q11: =IF(AND(C11>0.05, C11<0.1),"Yes", "No") -> No | R11: =IF(AND(C11>0.1, C11<0.15),"Yes", "No") -> No | S11: =IF(AND(C11>0.15, C11<0.2),"Yes", "No") -> No | T11: =IF(AND(C11>0.2, C11<0.25),"Yes", "No") -> No | U11: =IF(C11>0.25, "Yes","No") -> No
A12: Calgary-Elbow | B12: 55297 | C12: =(B12-C$91)/C$91 -> 0.0066909089 | D12: =ABS(C12) -> 0.0066909089 | E12: 1 | F12: =B12/B$91 -> 0.011311134 | G12: =E12/E$91 -> 0.011235955 | H12: =F12-G12 -> 7.5178751e-05 | I12: =ABS(H12) -> 7.5178751e-05 | J12: =IF(C12<-0.25, "Yes","No") -> No | K12: =IF(AND(C12>-0.25,C12<-0.2),"Yes", "No") -> No | L12: =IF(AND(C12>-0.2,C12<-0.15),"Yes", "No") -> No | M12: =IF(AND(C12>-0.15,C12<-0.1),"Yes", "No") -> No | N12: =IF(AND(C12>-0.1,C12<-0.05),"Yes", "No") -> No | O12: =IF(AND(C12>-0.05,C12<0),"Yes", "No") -> No | P12: =IF(AND(C12>0, C12<0.05),"Yes", "No") -> Yes | Q12: =IF(AND(C12>0.05, C12<0.1),"Yes", "No") -> No | R12: =IF(AND(C12>0.1, C12<0.15),"Yes", "No") -> No | S12: =IF(AND(C12>0.15, C12<0.2),"Yes", "No") -> No | T12: =IF(AND(C12>0.2, C12<0.25),"Yes", "No") -> No | U12: =IF(C12>0.25, "Yes","No") -> No
A13: Calgary-Falconridge-Conrich | B13: 56661 | C13: =(B13-C$91)/C$91 -> 0.031522751 | D13: =ABS(C13) -> 0.031522751 | E13: 1 | F13: =B13/B$91 -> 0.011590143 | G13: =E13/E$91 -> 0.011235955 | H13: =F13-G13 -> 0.00035418822 | I13: =ABS(H13) -> 0.00035418822 | J13: =IF(C13<-0.25, "Yes","No") -> No | K13: =IF(AND(C13>-0.25,C13<-0.2),"Yes", "No") -> No | L13: =IF(AND(C13>-0.2,C13<-0.15),"Yes", "No") -> No | M13: =IF(AND(C13>-0.15,C13<-0.1),"Yes", "No") -> No | N13: =IF(AND(C13>-0.1,C13<-0.05),"Yes", "No") -> No | O13: =IF(AND(C13>-0.05,C13<0),"Yes", "No") -> No | P13: =IF(AND(C13>0, C13<0.05),"Yes", "No") -> Yes | Q13: =IF(AND(C13>0.05, C13<0.1),"Yes", "No") -> No | R13: =IF(AND(C13>0.1, C13<0.15),"Yes", "No") -> No | S13: =IF(AND(C13>0.15, C13<0.2),"Yes", "No") -> No | T13: =IF(AND(C13>0.2, C13<0.25),"Yes", "No") -> No | U13: =IF(C13>0.25, "Yes","No") -> No
... A90: Taber-Cardston | B90: 54933 | C90: =(B90-C$91)/C$91 -> 6.4229452e-05 | D90: =ABS(C90) -> 6.4229452e-05 | E90: 1 | F90: =B90/B$91 -> 0.011236677 | G90: =E90/E$91 -> 0.011235955 | H90: =F90-G90 -> 7.2167924e-07 | I90: =ABS(H90) -> 7.2167924e-07 | J90: =IF(C90<-0.25, "Yes","No") -> No | K90: =IF(AND(C90>-0.25,C90<-0.2),"Yes", "No") -> No | L90: =IF(AND(C90>-0.2,C90<-0.15),"Yes", "No") -> No | M90: =IF(AND(C90>-0.15,C90<-0.1),"Yes", "No") -> No | N90: =IF(AND(C90>-0.1,C90<-0.05),"Yes", "No") -> No | O90: =IF(AND(C90>-0.05,C90<0),"Yes", "No") -> No | P90: =IF(AND(C90>0, C90<0.05),"Yes", "No") -> Yes | Q90: =IF(AND(C90>0.05, C90<0.1),"Yes", "No") -> No | R90: =IF(AND(C90>0.1, C90<0.15),"Yes", "No") -> No | S90: =IF(AND(C90>0.15, C90<0.2),"Yes", "No") -> No | T90: =IF(AND(C90>0.2, C90<0.25),"Yes", "No") -> No | U90: =IF(C90>0.25, "Yes","No") -> No
A91: Total or Average | B91: =SUM(B2:B90) -> 4888723 | C91: =B91/E91 -> 54929.472 | D91: =AVERAGE(D2:D90) -> 0.057883244 | E91: =SUM(E2:E90) -> 89 | F91: =SUM(F2:F90) -> 1 | G91: =SUM(G2:G90) -> 1 | I91: =SUM(I2:I90) -> 0.057883244 | J91: =COUNTIF(J2:J90, "Yes") -> 3 | K91: =COUNTIF(K2:K90, "Yes") -> 1 | L91: =COUNTIF(L2:L90, "Yes") -> 0 | M91: =COUNTIF(M2:M90, "Yes") -> 1 | N91: =COUNTIF(N2:N90, "Yes") -> 8 | O91: =COUNTIF(O2:O90, "Yes") -> 20 | P91: =COUNTIF(P2:P90, "Yes") -> 35 | Q91: =COUNTIF(Q2:Q90, "Yes") -> 16 | ... U91: =COUNTIF(U2:U90, "Yes") -> 0
A92: Loosemore-Hanby Index | I92: =I91/2 -> 0.028941622 | U92: =SUM(J91+K91+L91+M91+N91+O91+P91+Q91+R91+S91+T91+U91) -> 89
A93: Loosemore-Hanby Index (Percent) | I93: =I92 -> 0.028941622

Sheet Dissenting Report
A1: Electoral District | B1: Estimated Population (2024) | C1: Variance from Electoral Quota | D1: Absolute Variance | E1: Number of MPs | F1: Percent of Population | G1: Percent of MPs | H1: Difference | I1: Absolute Value | J1: Greater than – 25% | K1: – 25% to – 20 % | L1: – 20 to – 15% | M1: – 15% to – 10% | N1: – 10% to – 5% | O1: – 5% to 0 | P1: 0 to +5% | Q1: .+5% to +10% | R1: .+10% to +15% | S1: .+15% to 20% | T1: .+20% to +25% | U1: Greater than +25%
A2: Calgary-Acadia | B2: 53346 | C2: =(B2-C$91)/C$91 -> -0.028837297 | D2: =ABS(C2) -> 0.028837297 | E2: 1 | F2: =B2/B$91 -> 0.01091194 | G2: =E2/E$91 -> 0.011235955 | H2: =F2-G2 -> -0.00032401458 | I2: =ABS(H2) -> 0.00032401458 | J2: =IF(C2<-0.25, "Yes","No") -> No | K2: =IF(AND(C2>-0.25,C2<-0.2),"Yes", "No") -> No | L2: =IF(AND(C2>-0.2,C2<-0.15),"Yes", "No") -> No | M2: =IF(AND(C2>-0.15,C2<-0.1),"Yes", "No") -> No | N2: =IF(AND(C2>-0.1,C2<-0.05),"Yes", "No") -> No | O2: =IF(AND(C2>-0.05,C2<0),"Yes", "No") -> Yes | P2: =IF(AND(C2>0, C2<0.05),"Yes", "No") -> No | Q2: =IF(AND(C2>0.05, C2<0.1),"Yes", "No") -> No | R2: =IF(AND(C2>0.1, C2<0.15),"Yes", "No") -> No | S2: =IF(AND(C2>0.15, C2<0.2),"Yes", "No") -> No | T2: =IF(AND(C2>0.2, C2<0.25),"Yes", "No") -> No | U2: =IF(C2>0.25, "Yes","No") -> No
A3: Calgary-Airdrie | B3: 58820 | C3: =(B3-C$91)/C$91 -> 0.070816747 | D3: =ABS(C3) -> 0.070816747 | E3: 1 | F3: =B3/B$91 -> 0.012031649 | G3: =E3/E$91 -> 0.011235955 | H3: =F3-G3 -> 0.00079569378 | I3: =ABS(H3) -> 0.00079569378 | J3: =IF(C3<-0.25, "Yes","No") -> No | K3: =IF(AND(C3>-0.25,C3<-0.2),"Yes", "No") -> No | L3: =IF(AND(C3>-0.2,C3<-0.15),"Yes", "No") -> No | M3: =IF(AND(C3>-0.15,C3<-0.1),"Yes", "No") -> No | N3: =IF(AND(C3>-0.1,C3<-0.05),"Yes", "No") -> No | O3: =IF(AND(C3>-0.05,C3<0),"Yes", "No") -> No | P3: =IF(AND(C3>0, C3<0.05),"Yes", "No") -> No | Q3: =IF(AND(C3>0.05, C3<0.1),"Yes", "No") -> Yes | R3: =IF(AND(C3>0.1, C3<0.15),"Yes", "No") -> No | S3: =IF(AND(C3>0.15, C3<0.2),"Yes", "No") -> No | T3: =IF(AND(C3>0.2, C3<0.25),"Yes", "No") -> No | U3: =IF(C3>0.25, "Yes","No") -> No
A4: Calgary-Beddington | B4: 61320 | C4: =(B4-C$91)/C$91 -> 0.11632919 | D4: =ABS(C4) -> 0.11632919 | E4: 1 | F4: =B4/B$91 -> 0.012543025 | G4: =E4/E$91 -> 0.011235955 | H4: =F4-G4 -> 0.0013070695 | I4: =ABS(H4) -> 0.0013070695 | J4: =IF(C4<-0.25, "Yes","No") -> No | K4: =IF(AND(C4>-0.25,C4<-0.2),"Yes", "No") -> No | L4: =IF(AND(C4>-0.2,C4<-0.15),"Yes", "No") -> No | M4: =IF(AND(C4>-0.15,C4<-0.1),"Yes", "No") -> No | N4: =IF(AND(C4>-0.1,C4<-0.05),"Yes", "No") -> No | O4: =IF(AND(C4>-0.05,C4<0),"Yes", "No") -> No | P4: =IF(AND(C4>0, C4<0.05),"Yes", "No") -> No | Q4: =IF(AND(C4>0.05, C4<0.1),"Yes", "No") -> No | R4: =IF(AND(C4>0.1, C4<0.15),"Yes", "No") -> Yes | S4: =IF(AND(C4>0.15, C4<0.2),"Yes", "No") -> No | T4: =IF(AND(C4>0.2, C4<0.25),"Yes", "No") -> No | U4: =IF(C4>0.25, "Yes","No") -> No
A5: Calgary-Bow-Springbank | B5: 55560 | C5: =(B5-C$91)/C$91 -> 0.011468522 | D5: =ABS(C5) -> 0.011468522 | E5: 1 | F5: =B5/B$91 -> 0.011364815 | G5: =E5/E$91 -> 0.011235955 | H5: =F5-G5 -> 0.0001288598 | I5: =ABS(H5) -> 0.0001288598 | J5: =IF(C5<-0.25, "Yes","No") -> No | K5: =IF(AND(C5>-0.25,C5<-0.2),"Yes", "No") -> No | L5: =IF(AND(C5>-0.2,C5<-0.15),"Yes", "No") -> No | M5: =IF(AND(C5>-0.15,C5<-0.1),"Yes", "No") -> No | N5: =IF(AND(C5>-0.1,C5<-0.05),"Yes", "No") -> No | O5: =IF(AND(C5>-0.05,C5<0),"Yes", "No") -> No | P5: =IF(AND(C5>0, C5<0.05),"Yes", "No") -> Yes | Q5: =IF(AND(C5>0.05, C5<0.1),"Yes", "No") -> No | R5: =IF(AND(C5>0.1, C5<0.15),"Yes", "No") -> No | S5: =IF(AND(C5>0.15, C5<0.2),"Yes", "No") -> No | T5: =IF(AND(C5>0.2, C5<0.25),"Yes", "No") -> No | U5: =IF(C5>0.25, "Yes","No") -> No
A6: Calgary-Buffalo | B6: 66801 | C6: =(B6-C$91)/C$91 -> 0.21611067 | D6: =ABS(C6) -> 0.21611067 | E6: 1 | F6: =B6/B$91 -> 0.013664165 | G6: =E6/E$91 -> 0.011235955 | H6: =F6-G6 -> 0.0024282098 | I6: =ABS(H6) -> 0.0024282098 | J6: =IF(C6<-0.25, "Yes","No") -> No | K6: =IF(AND(C6>-0.25,C6<-0.2),"Yes", "No") -> No | L6: =IF(AND(C6>-0.2,C6<-0.15),"Yes", "No") -> No | M6: =IF(AND(C6>-0.15,C6<-0.1),"Yes", "No") -> No | N6: =IF(AND(C6>-0.1,C6<-0.05),"Yes", "No") -> No | O6: =IF(AND(C6>-0.05,C6<0),"Yes", "No") -> No | P6: =IF(AND(C6>0, C6<0.05),"Yes", "No") -> No | Q6: =IF(AND(C6>0.05, C6<0.1),"Yes", "No") -> No | R6: =IF(AND(C6>0.1, C6<0.15),"Yes", "No") -> No | S6: =IF(AND(C6>0.15, C6<0.2),"Yes", "No") -> No | T6: =IF(AND(C6>0.2, C6<0.25),"Yes", "No") -> Yes | U6: =IF(C6>0.25, "Yes","No") -> No
A7: Calgary-Cross | B7: 63064 | C7: =(B7-C$91)/C$91 -> 0.14807867 | D7: =ABS(C7) -> 0.14807867 | E7: 1 | F7: =B7/B$91 -> 0.01289976 | G7: =E7/E$91 -> 0.011235955 | H7: =F7-G7 -> 0.0016638053 | I7: =ABS(H7) -> 0.0016638053 | J7: =IF(C7<-0.25, "Yes","No") -> No | K7: =IF(AND(C7>-0.25,C7<-0.2),"Yes", "No") -> No | L7: =IF(AND(C7>-0.2,C7<-0.15),"Yes", "No") -> No | M7: =IF(AND(C7>-0.15,C7<-0.1),"Yes", "No") -> No | N7: =IF(AND(C7>-0.1,C7<-0.05),"Yes", "No") -> No | O7: =IF(AND(C7>-0.05,C7<0),"Yes", "No") -> No | P7: =IF(AND(C7>0, C7<0.05),"Yes", "No") -> No | Q7: =IF(AND(C7>0.05, C7<0.1),"Yes", "No") -> No | R7: =IF(AND(C7>0.1, C7<0.15),"Yes", "No") -> Yes | S7: =IF(AND(C7>0.15, C7<0.2),"Yes", "No") -> No | T7: =IF(AND(C7>0.2, C7<0.25),"Yes", "No") -> No | U7: =IF(C7>0.25, "Yes","No") -> No
A8: Calgary-Currie | B8: 60141 | C8: =(B8-C$91)/C$91 -> 0.094865521 | D8: =ABS(C8) -> 0.094865521 | E8: 1 | F8: =B8/B$91 -> 0.01230186 | G8: =E8/E$91 -> 0.011235955 | H8: =F8-G8 -> 0.0010659047 | I8: =ABS(H8) -> 0.0010659047 | J8: =IF(C8<-0.25, "Yes","No") -> No | K8: =IF(AND(C8>-0.25,C8<-0.2),"Yes", "No") -> No | L8: =IF(AND(C8>-0.2,C8<-0.15),"Yes", "No") -> No | M8: =IF(AND(C8>-0.15,C8<-0.1),"Yes", "No") -> No | N8: =IF(AND(C8>-0.1,C8<-0.05),"Yes", "No") -> No | O8: =IF(AND(C8>-0.05,C8<0),"Yes", "No") -> No | P8: =IF(AND(C8>0, C8<0.05),"Yes", "No") -> No | Q8: =IF(AND(C8>0.05, C8<0.1),"Yes", "No") -> Yes | R8: =IF(AND(C8>0.1, C8<0.15),"Yes", "No") -> No | S8: =IF(AND(C8>0.15, C8<0.2),"Yes", "No") -> No | T8: =IF(AND(C8>0.2, C8<0.25),"Yes", "No") -> No | U8: =IF(C8>0.25, "Yes","No") -> No
A9: Calgary-De Winton | B9: 47732 | C9: =(B9-C$91)/C$91 -> -0.13104004 | D9: =ABS(C9) -> 0.13104004 | E9: 1 | F9: =B9/B$91 -> 0.0097635951 | G9: =E9/E$91 -> 0.011235955 | H9: =F9-G9 -> -0.00147236 | I9: =ABS(H9) -> 0.00147236 | J9: =IF(C9<-0.25, "Yes","No") -> No | K9: =IF(AND(C9>-0.25,C9<-0.2),"Yes", "No") -> No | L9: =IF(AND(C9>-0.2,C9<-0.15),"Yes", "No") -> No | M9: =IF(AND(C9>-0.15,C9<-0.1),"Yes", "No") -> Yes | N9: =IF(AND(C9>-0.1,C9<-0.05),"Yes", "No") -> No | O9: =IF(AND(C9>-0.05,C9<0),"Yes", "No") -> No | P9: =IF(AND(C9>0, C9<0.05),"Yes", "No") -> No | Q9: =IF(AND(C9>0.05, C9<0.1),"Yes", "No") -> No | R9: =IF(AND(C9>0.1, C9<0.15),"Yes", "No") -> No | S9: =IF(AND(C9>0.15, C9<0.2),"Yes", "No") -> No | T9: =IF(AND(C9>0.2, C9<0.25),"Yes", "No") -> No | U9: =IF(C9>0.25, "Yes","No") -> No
A10: Calgary-East | B10: 57107 | C10: =(B10-C$91)/C$91 -> 0.039631621 | D10: =ABS(C10) -> 0.039631621 | E10: 1 | F10: =B10/B$91 -> 0.011681254 | G10: =E10/E$91 -> 0.011235955 | H10: =F10-G10 -> 0.00044529912 | I10: =ABS(H10) -> 0.00044529912 | J10: =IF(C10<-0.25, "Yes","No") -> No | K10: =IF(AND(C10>-0.25,C10<-0.2),"Yes", "No") -> No | L10: =IF(AND(C10>-0.2,C10<-0.15),"Yes", "No") -> No | M10: =IF(AND(C10>-0.15,C10<-0.1),"Yes", "No") -> No | N10: =IF(AND(C10>-0.1,C10<-0.05),"Yes", "No") -> No | O10: =IF(AND(C10>-0.05,C10<0),"Yes", "No") -> No | P10: =IF(AND(C10>0, C10<0.05),"Yes", "No") -> Yes | Q10: =IF(AND(C10>0.05, C10<0.1),"Yes", "No") -> No | R10: =IF(AND(C10>0.1, C10<0.15),"Yes", "No") -> No | S10: =IF(AND(C10>0.15, C10<0.2),"Yes", "No") -> No | T10: =IF(AND(C10>0.2, C10<0.25),"Yes", "No") -> No | U10: =IF(C10>0.25, "Yes","No") -> No
A11: Calgary-Edgemont | B11: 56584 | C11: =(B11-C$91)/C$91 -> 0.030110418 | D11: =ABS(C11) -> 0.030110418 | E11: 1 | F11: =B11/B$91 -> 0.011574274 | G11: =E11/E$91 -> 0.011235955 | H11: =F11-G11 -> 0.00033831931 | I11: =ABS(H11) -> 0.00033831931 | J11: =IF(C11<-0.25, "Yes","No") -> No | K11: =IF(AND(C11>-0.25,C11<-0.2),"Yes", "No") -> No | L11: =IF(AND(C11>-0.2,C11<-0.15),"Yes", "No") -> No | M11: =IF(AND(C11>-0.15,C11<-0.1),"Yes", "No") -> No | N11: =IF(AND(C11>-0.1,C11<-0.05),"Yes", "No") -> No | O11: =IF(AND(C11>-0.05,C11<0),"Yes", "No") -> No | P11: =IF(AND(C11>0, C11<0.05),"Yes", "No") -> Yes | Q11: =IF(AND(C11>0.05, C11<0.1),"Yes", "No") -> No | R11: =IF(AND(C11>0.1, C11<0.15),"Yes", "No") -> No | S11: =IF(AND(C11>0.15, C11<0.2),"Yes", "No") -> No | T11: =IF(AND(C11>0.2, C11<0.25),"Yes", "No") -> No | U11: =IF(C11>0.25, "Yes","No") -> No
A12: Calgary-Elbow | B12: 59034 | C12: =(B12-C$91)/C$91 -> 0.074712612 | D12: =ABS(C12) -> 0.074712612 | E12: 1 | F12: =B12/B$91 -> 0.012075423 | G12: =E12/E$91 -> 0.011235955 | H12: =F12-G12 -> 0.00083946755 | I12: =ABS(H12) -> 0.00083946755 | J12: =IF(C12<-0.25, "Yes","No") -> No | K12: =IF(AND(C12>-0.25,C12<-0.2),"Yes", "No") -> No | L12: =IF(AND(C12>-0.2,C12<-0.15),"Yes", "No") -> No | M12: =IF(AND(C12>-0.15,C12<-0.1),"Yes", "No") -> No | N12: =IF(AND(C12>-0.1,C12<-0.05),"Yes", "No") -> No | O12: =IF(AND(C12>-0.05,C12<0),"Yes", "No") -> No | P12: =IF(AND(C12>0, C12<0.05),"Yes", "No") -> No | Q12: =IF(AND(C12>0.05, C12<0.1),"Yes", "No") -> Yes | R12: =IF(AND(C12>0.1, C12<0.15),"Yes", "No") -> No | S12: =IF(AND(C12>0.15, C12<0.2),"Yes", "No") -> No | T12: =IF(AND(C12>0.2, C12<0.25),"Yes", "No") -> No | U12: =IF(C12>0.25, "Yes","No") -> No
A13: Calgary-Falconridge | B13: 63986 | C13: =(B13-C$91)/C$91 -> 0.16486366 | D13: =ABS(C13) -> 0.16486366 | E13: 1 | F13: =B13/B$91 -> 0.013088356 | G13: =E13/E$91 -> 0.011235955 | H13: =F13-G13 -> 0.0018524007 | I13: =ABS(H13) -> 0.0018524007 | J13: =IF(C13<-0.25, "Yes","No") -> No | K13: =IF(AND(C13>-0.25,C13<-0.2),"Yes", "No") -> No | L13: =IF(AND(C13>-0.2,C13<-0.15),"Yes", "No") -> No | M13: =IF(AND(C13>-0.15,C13<-0.1),"Yes", "No") -> No | N13: =IF(AND(C13>-0.1,C13<-0.05),"Yes", "No") -> No | O13: =IF(AND(C13>-0.05,C13<0),"Yes", "No") -> No | P13: =IF(AND(C13>0, C13<0.05),"Yes", "No") -> No | Q13: =IF(AND(C13>0.05, C13<0.1),"Yes", "No") -> No | R13: =IF(AND(C13>0.1, C13<0.15),"Yes", "No") -> No | S13: =IF(AND(C13>0.15, C13<0.2),"Yes", "No") -> Yes | T13: =IF(AND(C13>0.2, C13<0.25),"Yes", "No") -> No | U13: =IF(C13>0.25, "Yes","No") -> No
... A90: Wetaskawin-Ponoka-Maskwacis | B90: 48775 | C90: =(B90-C$91)/C$91 -> -0.11205225 | D90: =ABS(C90) -> 0.11205225 | E90: 1 | F90: =B90/B$91 -> 0.009976941 | G90: =E90/E$91 -> 0.011235955 | H90: =F90-G90 -> -0.001259014 | I90: =ABS(H90) -> 0.001259014 | J90: =IF(C90<-0.25, "Yes","No") -> No | K90: =IF(AND(C90>-0.25,C90<-0.2),"Yes", "No") -> No | L90: =IF(AND(C90>-0.2,C90<-0.15),"Yes", "No") -> No | M90: =IF(AND(C90>-0.15,C90<-0.1),"Yes", "No") -> Yes | N90: =IF(AND(C90>-0.1,C90<-0.05),"Yes", "No") -> No | O90: =IF(AND(C90>-0.05,C90<0),"Yes", "No") -> No | P90: =IF(AND(C90>0, C90<0.05),"Yes", "No") -> No | Q90: =IF(AND(C90>0.05, C90<0.1),"Yes", "No") -> No | R90: =IF(AND(C90>0.1, C90<0.15),"Yes", "No") -> No | S90: =IF(AND(C90>0.15, C90<0.2),"Yes", "No") -> No | T90: =IF(AND(C90>0.2, C90<0.25),"Yes", "No") -> No | U90: =IF(C90>0.25, "Yes","No") -> No
A91: Total or Average | B91: =SUM(B2:B90) -> 4888773 | C91: =B91/E91 -> 54930.034 | D91: =AVERAGE(D2:D90) -> 0.085684205 | E91: =SUM(E2:E90) -> 89 | F91: =SUM(F2:F90) -> 1 | G91: =SUM(G2:G90) -> 1 | I91: =SUM(I2:I90) -> 0.085684205 | J91: =COUNTIF(J2:J90, "Yes") -> 3 | K91: =COUNTIF(K2:K90, "Yes") -> 1 | L91: =COUNTIF(L2:L90, "Yes") -> 1 | M91: =COUNTIF(M2:M90, "Yes") -> 9 | N91: =COUNTIF(N2:N90, "Yes") -> 9 | O91: =COUNTIF(O2:O90, "Yes") -> 16 | P91: =COUNTIF(P2:P90, "Yes") -> 21 | Q91: =COUNTIF(Q2:Q90, "Yes") -> 14 | ... U91: =COUNTIF(U2:U90, "Yes") -> 0
A92: Loosemore-Hanby Index | I92: =I91/2 -> 0.042842103 | U92: =SUM(J91+K91+L91+M91+N91+O91+P91+Q91+R91+S91+T91+U91) -> 89
A93: Loosemore-Hanby Index (Percent) | I93: =I92 -> 0.042842103
