Workbook

Sheet All Decades
A1: The Percentage of Ridings the Populations of Which Exceed the Electoral Quota by Greater than 25%, 1960s-2020s
A2: Province | B2: 1960s | C2: 1970s | D2: 1980s | E2: 1990s | F2: 2000s | G2: 2010s | H2: 2020s
A3: Newfoundland & Labrador | B3: ='1960s'!D3 -> 0.28571429 | C3: ='1970s'!D3 -> 0.14285714 | D3: ='1980s'!D3 -> 0 | E3: ='1990s'!D3 -> 0.28571429 | F3: ='2000s'!D3 -> 0.42857143 | G3: ='2010s'!D3 -> 0.28571429 | H3: ='2020s'!D3 -> 0.14285714
A4: Prince Edward Island | B4: ='1960s'!D4 -> 0.5 | C4: ='1970s'!D4 -> 0.25 | D4: ='1980s'!D4 -> 0 | E4: ='1990s'!D4 -> 0 | F4: ='2000s'!D4 -> 0 | G4: ='2010s'!D4 -> 0 | H4: ='2020s'!D4 -> 0
A5: Nova Scotia | B5: ='1960s'!D5 -> 0.81818182 | C5: ='1970s'!D5 -> 0.18181818 | D5: ='1980s'!D5 -> 0.18181818 | E5: ='1990s'!D5 -> 0.18181818 | F5: ='2000s'!D5 -> 0.090909091 | G5: ='2010s'!D5 -> 0 | H5: ='2020s'!D5 -> 0.090909091
A6: New Brunswick | B6: ='1960s'!D6 -> 0.8 | C6: ='1970s'!D6 -> 0.2 | D6: ='1980s'!D6 -> 0.1 | E6: ='1990s'!D6 -> 0.2 | F6: ='2000s'!D6 -> 0.1 | G6: ='2010s'!D6 -> 0.2 | H6: ='2020s'!D6 -> 0.2
A7: Quebec | B7: ='1960s'!D7 -> 0.5 | C7: ='1970s'!D7 -> 0.4 | D7: ='1980s'!D7 -> 0.22666667 | E7: ='1990s'!D7 -> 0.17333333 | F7: ='2000s'!D7 -> 0.21333333 | G7: ='2010s'!D7 -> 0.064102564 | H7: ='2020s'!D7 -> 0.038461538
A8: Ontario | B8: ='1960s'!D8 -> 0.48863636 | C8: ='1970s'!D8 -> 0.30526316 | D8: ='1980s'!D8 -> 0.22222222 | E8: ='1990s'!D8 -> 0.18446602 | F8: ='2000s'!D8 -> 0.18867925 | G8: ='2010s'!D8 -> 0.20661157 | H8: ='2020s'!D8 -> 0.098360656
A9: Manitoba | B9: ='1960s'!D9 -> 0.61538462 | C9: ='1970s'!D9 -> 0.35714286 | D9: ='1980s'!D9 -> 0.21428571 | E9: ='1990s'!D9 -> 0 | F9: ='2000s'!D9 -> 0 | G9: ='2010s'!D9 -> 0 | H9: ='2020s'!D9 -> 0
A10: Saskatchewan | B10: ='1960s'!D10 -> 1 | C10: ='1970s'!D10 -> 0.35714286 | D10: ='1980s'!D10 -> 0.14285714 | E10: ='1990s'!D10 -> 0 | F10: ='2000s'!D10 -> 0 | G10: ='2010s'!D10 -> 0 | H10: ='2020s'!D10 -> 0
A11: Alberta | B11: ='1960s'!D11 -> 0.36842105 | C11: ='1970s'!D11 -> 0.33333333 | D11: ='1980s'!D11 -> 0.30769231 | E11: ='1990s'!D11 -> 0.26923077 | F11: ='2000s'!D11 -> 0.10714286 | G11: ='2010s'!D11 -> 0.41176471 | H11: ='2020s'!D11 -> 0.13513514
A12: British Columbia | B12: ='1960s'!D12 -> 0.30434783 | C12: ='1970s'!D12 -> 0.35714286 | D12: ='1980s'!D12 -> 0.3125 | E12: ='1990s'!D12 -> 0.20588235 | F12: ='2000s'!D12 -> 0.16666667 | G12: ='2010s'!D12 -> 0.21428571 | H12: ='2020s'!D12 -> 0
A13: All Provinces (Totals) | B13: ='1960s'!D13 -> 0.51908397 | C13: ='1970s'!D13 -> 0.3297491 | D13: ='1980s'!D13 -> 0.22260274 | E13: ='1990s'!D13 -> 0.17449664 | F13: ='2000s'!D13 -> 0.16393443 | G13: ='2010s'!D13 -> 0.17014925 | H13: ='2020s'!D13 -> 0.070588235

Sheet 2020s (List)
A1: Electoral Districts With Populations Greater or Less Than 25% of the Electoral Quota Under the Census and the Previous Representation Order
A2: Province | B2: Population of the Province | C2: Number of Ridings | D2: Electoral Quota | E2: Electoral District | F2: Population | G2: Deviation from the Electoral Quota
A3: Newfoundland & Labrador | B3: 510550 | C3: 7 | D3: =B3/C3 -> 72935.714 | E3: Labrador | F3: 26655 | G3: =(F3-D3)/D3 -> -0.63454118
A4: Nova Scotia | B4: 969383 | C4: 11 | D4: =B4/C4 -> 88125.727 | E4: Halifax West | F4: 111944 | G4: =(F4-D4)/D4 -> 0.27027604
A5: New Brunswick | B5: 775610 | C5: 10 | D5: =B5/C5 -> 77561 | E5: Miramichi—Grand Lake | F5: 57520 | G5: =(F5-D5)/D5 -> -0.25839017
A6: New Brunswick | B6: 775610 | C6: 10 | D6: =B6/C6 -> 77561 | E6: Monton—Riverview—Dieppe | F6: 101237 | G6: =(F6-D6)/D6 -> 0.30525651
A7: Quebec | B7: 8501833 | C7: 78 | D7: =B7/C7 -> 108997.86 | E7: Avignon—La Mitis—Matane—Matapédia | F7: 70253 | G7: =(F7-D7)/D7 -> -0.3554644
A8: Quebec | B8: 8501833 | C8: 78 | D8: =B8/C8 -> 108997.86 | E8: Compton—Stanstead | F8: 75927 | G8: =(F9-D8)/D8 -> -0.26060016
A9: Quebec | B9: 8501833 | C9: 78 | D9: =B9/C9 -> 108997.86 | E9: Charlesbourg—Haunte-Saint-Charles | F9: 80593 | G9: =(F8-D9)/D9 -> -0.30340834
A10: Ontario | B10: 14223942 | C10: 122 | D10: =B10/C10 -> 116589.69 | E10: Kenora | F10: 64261 | G10: =(F10-D10)/D10 -> -0.44882776
A11: Ontario | B11: 14223942 | C11: 122 | D11: =B11/C11 -> 116589.69 | E11: Sault Ste. Marie | F11: 79331 | G11: =(F11-D11)/D11 -> -0.31957104
A12: Ontario | B12: 14223942 | C12: 122 | D12: =B12/C12 -> 116589.69 | E12: Algoma—Manitoulin—Kapuskasing | F12: 80310 | G12: =(F12-D12)/D12 -> -0.31117408
A13: Ontario | B13: 14223942 | C13: 122 | D13: =B13/C13 -> 116589.69 | E13: Timmins—James Bay | F13: 80785 | G13: =(F13-D13)/D13 -> -0.30709996
A14: Ontario | B14: 14223942 | C14: 122 | D14: =B14/C14 -> 116589.69 | E14: Thunder Bay—Rainy River | F14: 82357 | G14: =(F14-D14)/D14 -> -0.29361678
A15: Ontario | B15: 14223942 | C15: 122 | D15: =B15/C15 -> 116589.69 | E15: Thunder Bay—Superior North | F15: 83325 | G15: =(F15-D15)/D15 -> -0.28531416
A16: Ontario | B16: 14223942 | C16: 122 | D16: =B16/C16 -> 116589.69 | E16: Niagara Falls | F16: 146404 | G16: =(F16-D16)/D16 -> 0.25571997
A17: Ontario | B17: 14223942 | C17: 122 | D17: =B17/C17 -> 116589.69 | E17: King—Vaughan | F17: 147695 | G17: =(F17-D17)/D17 -> 0.26679299
A18: Ontario | B18: 14223942 | C18: 122 | D18: =B18/C18 -> 116589.69 | E18: Oakville North—Burlington | F18: 148936 | G18: =(F18-D18)/D18 -> 0.27743715
A19: Ontario | B19: 14223942 | C19: 122 | D19: =B19/C19 -> 116589.69 | E19: Durham | F19: 150235 | G19: =(F19-D19)/D19 -> 0.28857879
A20: Ontario | B20: 14223942 | C20: 122 | D20: =B20/C20 -> 116589.69 | E20: Simcoe—Grey | F20: 151784 | G20: =(F20-D20)/D20 -> 0.3018647
A21: Ontario | B21: 14223942 | C21: 122 | D21: =B21/C21 -> 116589.69 | E21: Brampton West | F21: 162353 | G21: =(F21-D21)/D21 -> 0.39251594
... A24: Alberta | B24: 4262635 | C24: 37 | D24: =B24/C24 -> 115206.35 | E24: Calgary Skyview | F24: 159642 | G24: =(F24-D24)/D24 -> 0.38570485
A25: Alberta | B25: 4262635 | C25: 37 | D25: =B24/C24 -> 115206.35 | E25: Calgary Shephard | F25: 163447 | G25: =(F25-D25)/D25 -> 0.41873254
A26: Alberta | B26: 4262635 | C26: 37 | D26: =B24/C24 -> 115206.35 | E26: Edmonton—Wetaskiwin | F26: 209431 | G26: =(F26-D26)/D26 -> 0.81787721

Sheet 2020s
A1: The Number and Percentages of Ridings the Populations of Which Exceed the Electoral Quota by Greater than 25%, 2020s
A2: Province | B2: Total Number of MPs | C2: Number of Ridings Greater Than 25% | D2: Percentage of Ridings Greater Than 25%
A3: Newfoundland & Labrador | B3: 7 | C3: 1 | D3: =C3/B3 -> 0.14285714
A4: Prince Edward Island | B4: 4 | C4: 0 | D4: =C4/B4 -> 0
A5: Nova Scotia | B5: 11 | C5: 1 | D5: =C5/B5 -> 0.090909091
A6: New Brunswick | B6: 10 | C6: 2 | D6: =C6/B6 -> 0.2
A7: Quebec | B7: 78 | C7: 3 | D7: =C7/B7 -> 0.038461538
A8: Ontario | B8: 122 | C8: 12 | D8: =C8/B8 -> 0.098360656
A9: Manitoba | B9: 14 | C9: 0 | D9: =C9/B9 -> 0
A10: Saskatchewan | B10: 14 | C10: 0 | D10: =C10/B10 -> 0
A11: Alberta | B11: 37 | C11: 5 | D11: =C11/B11 -> 0.13513514
A12: British Columbia | B12: 43 | C12: 0 | D12: =C12/B12 -> 0
A13: All Provinces | B13: =SUM(B3:B12) -> 340 | C13: =SUM(C3:C12) -> 24 | D13: =C13/B13 -> 0.070588235
A14: The total number of MPs refers to the electoral quota under EBRA, and therefore under the Representation Orders 2023, rather under the previous Representation Order, 2013

Sheet 2010s
A1: The Number and Percentages of Ridings the Populations of Which Exceed the Electoral Quota by Greater than 25%, 2010s
A2: Province | B2: Total Number of MPs | C2: Number of Ridings Greater Than 25% | D2: Percentage of Ridings Greater Than 25%
A3: Newfoundland & Labrador | B3: 7 | C3: 2 | D3: =C3/B3 -> 0.28571429
A4: Prince Edward Island | B4: 4 | C4: 0 | D4: =C4/B4 -> 0
A5: Nova Scotia | B5: 11 | C5: 0 | D5: =C5/B5 -> 0
A6: New Brunswick | B6: 10 | C6: 2 | D6: =C6/B6 -> 0.2
A7: Quebec | B7: 78 | C7: 5 | D7: =C7/B7 -> 0.064102564
A8: Ontario | B8: 121 | C8: 25 | D8: =C8/B8 -> 0.20661157
A9: Manitoba | B9: 14 | C9: 0 | D9: =C9/B9 -> 0
A10: Saskatchewan | B10: 14 | C10: 0 | D10: =C10/B10 -> 0
A11: Alberta | B11: 34 | C11: 14 | D11: =C11/B11 -> 0.41176471
A12: British Columbia | B12: 42 | C12: 9 | D12: =C12/B12 -> 0.21428571
A13: All Provinces | B13: =SUM(B3:B12) -> 335 | C13: =SUM(C3:C12) -> 57 | D13: =C13/B13 -> 0.17014925
A14: The total number of MPs refers to the electoral quota under EBRA, and therefore under the Representation Order 2013, rather under the previous Representation Order, 2003

Sheet 2000s
A1: The Number & Percentages of Ridings the Populations of Which Exceed the Electoral Quota by Greater than 25%, 2000s
A2: Province | B2: Total Number of MPs | C2: Number of Ridings Greater Than 25% | D2: Percentage of Ridings Greater Than 25%
A3: Newfoundland & Labrador | B3: 7 | C3: 3 | D3: =C3/B3 -> 0.42857143
A4: Prince Edward Island | B4: 4 | C4: 0 | D4: =C4/B4 -> 0
A5: Nova Scotia | B5: 11 | C5: 1 | D5: =C5/B5 -> 0.090909091
A6: New Brunswick | B6: 10 | C6: 1 | D6: =C6/B6 -> 0.1
A7: Quebec | B7: 75 | C7: 16 | D7: =C7/B7 -> 0.21333333
A8: Ontario | B8: 106 | C8: 20 | D8: =C8/B8 -> 0.18867925
A9: Manitoba | B9: 14 | C9: 0 | D9: =C9/B9 -> 0
A10: Saskatchewan | B10: 14 | C10: 0 | D10: =C10/B10 -> 0
A11: Alberta | B11: 28 | C11: 3 | D11: =C11/B11 -> 0.10714286
A12: British Columbia | B12: 36 | C12: 6 | D12: =C12/B12 -> 0.16666667
A13: All Provinces | B13: =SUM(B3:B12) -> 305 | C13: =SUM(C3:C12) -> 50 | D13: =C13/B13 -> 0.16393443
A14: The total number of MPs refers to the electoral quota under EBRA, and therefore under the Representation Order 2003, rather under the previous Representation Order, 1996

Sheet 1990s
A1: The Number & Percentages of Ridings the Populations of Which Exceed the Electoral Quota by Greater than 25%, 1990s
A2: Province | B2: Total Number of MPs | C2: Number of Ridings Greater Than 25% | D2: Percentage of Ridings Greater Than 25%
A3: Newfoundland & Labrador | B3: 7 | C3: 2 | D3: =C3/B3 -> 0.28571429
A4: Prince Edward Island | B4: 4 | C4: 0 | D4: =C4/B4 -> 0
A5: Nova Scotia | B5: 11 | C5: 2 | D5: =C5/B5 -> 0.18181818
A6: New Brunswick | B6: 10 | C6: 2 | D6: =C6/B6 -> 0.2
A7: Quebec | B7: 75 | C7: 13 | D7: =C7/B7 -> 0.17333333
A8: Ontario | B8: 103 | C8: 19 | D8: =C8/B8 -> 0.18446602
A9: Manitoba | B9: 14 | C9: 0 | D9: =C9/B9 -> 0
A10: Saskatchewan | B10: 14 | C10: 0 | D10: =C10/B10 -> 0
A11: Alberta | B11: 26 | C11: 7 | D11: =C11/B11 -> 0.26923077
A12: British Columbia | B12: 34 | C12: 7 | D12: =C12/B12 -> 0.20588235
A13: All Provinces | B13: =SUM(B3:B12) -> 298 | C13: =SUM(C3:C12) -> 52 | D13: =C13/B13 -> 0.17449664
A14: The total number of MPs refers to the electoral quota under EBRA, and therefore under the Representation Order, 1996, rather under the previous Representation Order, 1987

Sheet 1980s
A1: The Number & Percentages of Ridings the Populations of Which Exceed the Electoral Quota by Greater than 25%, 1980s
A2: Province | B2: Total Number of MPs | C2: Number of Ridings Greater Than 25% | D2: Percentage of Ridings Greater Than 25%
A3: Newfoundland & Labrador | B3: 7 | C3: 0 | D3: =C3/B3 -> 0
A4: Prince Edward Island | B4: 4 | C4: 0 | D4: =C4/B4 -> 0
A5: Nova Scotia | B5: 11 | C5: 2 | D5: =C5/B5 -> 0.18181818
A6: New Brunswick | B6: 10 | C6: 1 | D6: =C6/B6 -> 0.1
A7: Quebec | B7: 75 | C7: 17 | D7: =C7/B7 -> 0.22666667
A8: Ontario | B8: 99 | C8: 22 | D8: =C8/B8 -> 0.22222222
A9: Manitoba | B9: 14 | C9: 3 | D9: =C9/B9 -> 0.21428571
A10: Saskatchewan | B10: 14 | C10: 2 | D10: =C10/B10 -> 0.14285714
A11: Alberta | B11: 26 | C11: 8 | D11: =C11/B11 -> 0.30769231
A12: British Columbia | B12: 32 | C12: 10 | D12: =C12/B12 -> 0.3125
A13: All Provinces | B13: =SUM(B3:B12) -> 292 | C13: =SUM(C3:C12) -> 65 | D13: =C13/B13 -> 0.22260274
A14: The total number of MPs refers to the electoral quota under EBRA, and therefore under the Representation Order, 1987, rather under the previous Representation Order, 1976

Sheet 1970s
A1: The Number & Percentages of Ridings the Populations of Which Exceed the Electoral Quota by Greater than 25%, 1970s
A2: Province | B2: Total Number of MPs | C2: Number of Ridings Greater Than 25% | D2: Percentage of Ridings Greater Than 25%
A3: Newfoundland & Labrador | B3: 7 | C3: 1 | D3: =C3/B3 -> 0.14285714
A4: Prince Edward Island | B4: 4 | C4: 1 | D4: =C4/B4 -> 0.25
A5: Nova Scotia | B5: 11 | C5: 2 | D5: =C5/B5 -> 0.18181818
A6: New Brunswick | B6: 10 | C6: 2 | D6: =C6/B6 -> 0.2
A7: Quebec | B7: 75 | C7: 30 | D7: =C7/B7 -> 0.4
A8: Ontario | B8: 95 | C8: 29 | D8: =C8/B8 -> 0.30526316
A9: Manitoba | B9: 14 | C9: 5 | D9: =C9/B9 -> 0.35714286
A10: Saskatchewan | B10: 14 | C10: 5 | D10: =C10/B10 -> 0.35714286
A11: Alberta | B11: 21 | C11: 7 | D11: =C11/B11 -> 0.33333333
A12: British Columbia | B12: 28 | C12: 10 | D12: =C12/B12 -> 0.35714286
A13: All Provinces | B13: =SUM(B3:B12) -> 279 | C13: =SUM(C3:C12) -> 92 | D13: =C13/B13 -> 0.3297491
A14: The total number of MPs refers to the electoral quota under EBRA, and therefore under the Representation Order, 1976, rather under the previous Representation Order, 1966

Sheet 1960s
A1: The Number & Percentages of Ridings the Populations of Which Exceed the Electoral Quota by Greater than 25%, 1960s
A2: Province | B2: Total Number of MPs | C2: Number of Ridings Greater Than 25% | D2: Percentage of Ridings Greater Than 25%
A3: Newfoundland & Labrador | B3: 7 | C3: 2 | D3: =C3/B3 -> 0.28571429
A4: Prince Edward Island | B4: 4 | C4: 2 | D4: =C4/B4 -> 0.5
A5: Nova Scotia | B5: 11 | C5: 9 | D5: =C5/B5 -> 0.81818182
A6: New Brunswick | B6: 10 | C6: 8 | D6: =C6/B6 -> 0.8
A7: Quebec | B7: 74 | C7: 37 | D7: =C7/B7 -> 0.5
A8: Ontario | B8: 88 | C8: 43 | D8: =C8/B8 -> 0.48863636
A9: Manitoba | B9: 13 | C9: 8 | D9: =C9/B9 -> 0.61538462
A10: Saskatchewan | B10: 13 | C10: 13 | D10: =C10/B10 -> 1
A11: Alberta | B11: 19 | C11: 7 | D11: =C11/B11 -> 0.36842105
A12: British Columbia | B12: 23 | C12: 7 | D12: =C12/B12 -> 0.30434783
A13: All Provinces | B13: =SUM(B3:B12) -> 262 | C13: =SUM(C3:C12) -> 136 | D13: =C13/B13 -> 0.51908397
A14: The total number of MPs refers to the electoral quota under EBRA, and therefore under the Representation Order, 1966, rather under the previous Representation Act, 1952
